BEGIN:VCALENDAR
VERSION:2.0
PRODID:-//Kulturstiftung-Seevetal - ECPv6.15.20//NONSGML v1.0//EN
CALSCALE:GREGORIAN
METHOD:PUBLISH
X-ORIGINAL-URL:https://kulturstiftung-seevetal.de
X-WR-CALDESC:Veranstaltungen für Kulturstiftung-Seevetal
REFRESH-INTERVAL;VALUE=DURATION:PT1H
X-Robots-Tag:noindex
X-PUBLISHED-TTL:PT1H
BEGIN:VTIMEZONE
TZID:Europe/Berlin
BEGIN:DAYLIGHT
TZOFFSETFROM:+0100
TZOFFSETTO:+0200
TZNAME:CEST
DTSTART:20210328T010000
END:DAYLIGHT
BEGIN:STANDARD
TZOFFSETFROM:+0200
TZOFFSETTO:+0100
TZNAME:CET
DTSTART:20211031T010000
END:STANDARD
BEGIN:DAYLIGHT
TZOFFSETFROM:+0100
TZOFFSETTO:+0200
TZNAME:CEST
DTSTART:20220327T010000
END:DAYLIGHT
BEGIN:STANDARD
TZOFFSETFROM:+0200
TZOFFSETTO:+0100
TZNAME:CET
DTSTART:20221030T010000
END:STANDARD
BEGIN:DAYLIGHT
TZOFFSETFROM:+0100
TZOFFSETTO:+0200
TZNAME:CEST
DTSTART:20230326T010000
END:DAYLIGHT
BEGIN:STANDARD
TZOFFSETFROM:+0200
TZOFFSETTO:+0100
TZNAME:CET
DTSTART:20231029T010000
END:STANDARD
END:VTIMEZONE
BEGIN:VEVENT
DTSTART;TZID=Europe/Berlin:20220306T180000
DTEND;TZID=Europe/Berlin:20220306T200000
DTSTAMP:20260421T174250
CREATED:20220223T171848Z
LAST-MODIFIED:20220223T171848Z
UID:10000581-1646589600-1646596800@kulturstiftung-seevetal.de
SUMMARY:"Musik des goldenen Zeitalters" in der Christuskirche
DESCRIPTION:Unter dem Titel „Musik des goldenen Zeitalters“ spielt\ndas Ensemble „Sixty1Strings“ mit Negin Habibi (Gitarre)\, Konstanze Kuß (Harfe) und Ekatarina Solovey (Mandoline)\nWerke von Antonio Vivaldi\, Domenico Scarlatti\, Marin Marais u.a. \nDer Eintritt kostet 20 und 16 Euro\, Schüler und Studenten sind frei.\nDie Pandemie-Einschränkungen richten sich nach den gesetzlichen Vorgaben des Landes Niedersachsen. \nVielen Dank\, die besten Wünsche für Ihre Gesundheit und viele Grüße \nRainer Castillon\n0170 2090510
URL:https://kulturstiftung-seevetal.de/kulturkalender/musik-des-goldenen-zeitalters-in-der-christuskirche/
LOCATION:Christuskirche Kammerkonzerte\, Westpreußenweg 17\, Seevetal\, 21217\, Deutschland
CATEGORIES:klassisches Konzert,Konzert
ATTACH;FMTTYPE=image/jpeg:https://kulturstiftung-seevetal.de/wp-content/uploads/2022/02/neu_67A4019_qudrat-Kopie.jpg
ORGANIZER;CN="Christuskirche Fleestedt":MAILTO:castillon@t-online.de
END:VEVENT
END:VCALENDAR