BEGIN:VCALENDAR
VERSION:2.0
PRODID:-//Kulturstiftung-Seevetal - ECPv6.15.20//NONSGML v1.0//EN
CALSCALE:GREGORIAN
METHOD:PUBLISH
X-ORIGINAL-URL:https://kulturstiftung-seevetal.de
X-WR-CALDESC:Veranstaltungen für Kulturstiftung-Seevetal
REFRESH-INTERVAL;VALUE=DURATION:PT1H
X-Robots-Tag:noindex
X-PUBLISHED-TTL:PT1H
BEGIN:VTIMEZONE
TZID:Europe/Berlin
BEGIN:DAYLIGHT
TZOFFSETFROM:+0100
TZOFFSETTO:+0200
TZNAME:CEST
DTSTART:20200329T010000
END:DAYLIGHT
BEGIN:STANDARD
TZOFFSETFROM:+0200
TZOFFSETTO:+0100
TZNAME:CET
DTSTART:20201025T010000
END:STANDARD
BEGIN:DAYLIGHT
TZOFFSETFROM:+0100
TZOFFSETTO:+0200
TZNAME:CEST
DTSTART:20210328T010000
END:DAYLIGHT
BEGIN:STANDARD
TZOFFSETFROM:+0200
TZOFFSETTO:+0100
TZNAME:CET
DTSTART:20211031T010000
END:STANDARD
BEGIN:DAYLIGHT
TZOFFSETFROM:+0100
TZOFFSETTO:+0200
TZNAME:CEST
DTSTART:20220327T010000
END:DAYLIGHT
BEGIN:STANDARD
TZOFFSETFROM:+0200
TZOFFSETTO:+0100
TZNAME:CET
DTSTART:20221030T010000
END:STANDARD
END:VTIMEZONE
BEGIN:VEVENT
DTSTART;TZID=Europe/Berlin:20211218T080000
DTEND;TZID=Europe/Berlin:20211218T180000
DTSTAMP:20260422T013736
CREATED:20211203T210241Z
LAST-MODIFIED:20211203T210241Z
UID:10000680-1639814400-1639850400@kulturstiftung-seevetal.de
SUMMARY:Diabelli-Variationen von Ludwig van Beethoven - verschoben
DESCRIPTION:Klavierkonzert mit Florian Heinisch.  Diabelli-Variationen von Ludwig van Beethoven\n(Dorfhaus Maschen) \nDer Pianist Florian Heinisch ist in Seevetal bereits gut bekannt.\nLeider muss das Konzert\, auf das sich bereits viele Seevetaler gefreut haben\, verschoben werden. \nDas Konzert wird vom Lüneburgischen Landschaftsverband gefördert:
URL:https://kulturstiftung-seevetal.de/kulturkalender/diabelli-variationen-von-ludwig-van-beethoven-verschoben/
LOCATION:Dorfhaus Maschen\, Schulstraße 55-57\, Seevetal-Maschen\, 21220
CATEGORIES:klassisches Konzert,Konzert
ATTACH;FMTTYPE=image/jpeg:https://kulturstiftung-seevetal.de/wp-content/uploads/2021/12/2-format6001.jpg
ORGANIZER;CN="Kulturstiftung Seevetal":MAILTO:kontakt@kulturstiftung-seevetal.de
END:VEVENT
END:VCALENDAR