BEGIN:VCALENDAR
VERSION:2.0
PRODID:-//Kulturstiftung-Seevetal - ECPv6.15.20//NONSGML v1.0//EN
CALSCALE:GREGORIAN
METHOD:PUBLISH
X-WR-CALNAME:Kulturstiftung-Seevetal
X-ORIGINAL-URL:https://kulturstiftung-seevetal.de
X-WR-CALDESC:Veranstaltungen für Kulturstiftung-Seevetal
REFRESH-INTERVAL;VALUE=DURATION:PT1H
X-Robots-Tag:noindex
X-PUBLISHED-TTL:PT1H
BEGIN:VTIMEZONE
TZID:Europe/Berlin
BEGIN:DAYLIGHT
TZOFFSETFROM:+0100
TZOFFSETTO:+0200
TZNAME:CEST
DTSTART:20190331T010000
END:DAYLIGHT
BEGIN:STANDARD
TZOFFSETFROM:+0200
TZOFFSETTO:+0100
TZNAME:CET
DTSTART:20191027T010000
END:STANDARD
BEGIN:DAYLIGHT
TZOFFSETFROM:+0100
TZOFFSETTO:+0200
TZNAME:CEST
DTSTART:20200329T010000
END:DAYLIGHT
BEGIN:STANDARD
TZOFFSETFROM:+0200
TZOFFSETTO:+0100
TZNAME:CET
DTSTART:20201025T010000
END:STANDARD
BEGIN:DAYLIGHT
TZOFFSETFROM:+0100
TZOFFSETTO:+0200
TZNAME:CEST
DTSTART:20210328T010000
END:DAYLIGHT
BEGIN:STANDARD
TZOFFSETFROM:+0200
TZOFFSETTO:+0100
TZNAME:CET
DTSTART:20211031T010000
END:STANDARD
END:VTIMEZONE
BEGIN:VEVENT
DTSTART;TZID=Europe/Berlin:20200918T190000
DTEND;TZID=Europe/Berlin:20200918T190000
DTSTAMP:20260423T100707
CREATED:20200908T164352Z
LAST-MODIFIED:20200908T183834Z
UID:10000580-1600455600-1600455600@kulturstiftung-seevetal.de
SUMMARY:Chopin hören und kennenlernen
DESCRIPTION:Der Musiker Dr. Roman Salyutov bringt spielt die Musik und berichtet vom Weg des Komponisten\nWer die Musik von Frederic Chopin liebt und mehr über die Persönlichkeit des Komponisten wissen möchte\, hat jetzt die Gelegenheit dazu bei einer gemeinsamen Veranstaltung der Kreisvolkshochschule im Landkreis Harburg und der Kulturstiftung Seevetal. „Mazurka“\, „Polonaise“\,\n„Nocturne“\, „Etüde“\, „Scherzo“\, „Ballade“ und „Fantasie“: Die Kombination eines musikgeschichtlichen Vortrags mit einer lebendigen Klavierpräsentation lässt die Veranstaltung „Begegnung mit Chopin – Vortrag mit anschließendem Konzert am Freitag\, 18. September\, um 19 Uhr im Dorfgemeinschaftshaus Maschen zu einem umfangreichen Musikerlebnis werden. Der Konzertpianist\, Dirigent und Musikwissenschaftler Dr.\nRoman Salyutov verspricht einen spannenden und abwechslungsreichen Einstieg in die Welt dieses romantischen Komponisten. Im ersten Teil der Veranstaltung findet ein gut einstündiger Vortrag zu Chopins Lebens statt\, in dem – mithilfe von Dia- Projektion – die wichtigsten Aspekte und Stationen seines Lebensweges behandelt werden. Nach einer Pause wird Dr. Roman Salyutov am Klavier ein aus Chopins verschiedenen Werken  bestehendes\, rund einstündiges Konzert spielen und dazu noch kurz in die emotional-bildliche Sphäre dieser Stücke einführen. Also eine Art musikalische Führung durch das einzigartige Leben von Chopin. Roman Salyutov wurde 1984 in Leningrad geboren\, studierte Klavier und Dirigieren in St. Petersburg und Köln und promovierte sich als Musikwissenschaftler zum Dr. phil. in Paderborn mit einer Untersuchung zur Semantik der Musiksprache von César Franck. Seine Auftritte als Konzertpianist\, einschließlich der Kammermusik und als Solist mit Orchester\, führen ihn neben vielen Engagements in Deutschland und Europa auch in die USA\, nach Israel\, Japan\, Australien und Neuseeland. Meisterkurse und musikwissenschaftliche Vorträge an in- und ausländischen Universitäten und im Rahmen von Festivals sind ebenso Teil seiner künstlerischen Arbeit. Sein Repertoire reicht vom Barock bis zur Musik des 21. Jahrhunderts hinaus und schließt über 400 Werke ein. Der Musiker lebt in  Bergisch Gladbach bei Köln. Er ist Chefdirigent des Sinfonieorchesters Bergisch Gladbach\, Initiator mehrerer städtischer Festivals\, Opernproduktionen\, nationaler wie internationaler Projekte. Außerdem ist er Gründer und Leiter des deutsch-israelischen Yachad-Chamber-Orchestra.
URL:https://kulturstiftung-seevetal.de/kulturkalender/chopin-hoeren-und-kennenlernen/
LOCATION:Dorfhaus Maschen\, Schulstraße 55-57\, Seevetal-Maschen\, 21220
CATEGORIES:klassische Musik,klassisches Konzert,Konzert,Vortrag
ATTACH;FMTTYPE=image/jpeg:https://kulturstiftung-seevetal.de/wp-content/uploads/2020/09/Roman-Salyutov-scaled-e1646585474203.jpg
END:VEVENT
BEGIN:VEVENT
DTSTART;TZID=Europe/Berlin:20200919T190000
DTEND;TZID=Europe/Berlin:20200919T190000
DTSTAMP:20260423T100707
CREATED:20200905T144352Z
LAST-MODIFIED:20220912T094338Z
UID:10000579-1600542000-1600542000@kulturstiftung-seevetal.de
SUMMARY:97. Kammerkonzert in der Christuskirche Fleetstedt
DESCRIPTION:Liebe Kammermusikinteressierte\, \nin der Hoffnung\, dass Sie alle gesund sind und vom Virus verschont blieben\, teilen wir Ihnen mit\, dass wir unsere Kammermusikreihe in der Christuskirche nach dieser langen Pause wieder aufleben lassen. \nWir laden Sie herzlich ein\, bitten Sie aber sich bei Interesse anzumelden\, da die Platzanzahl aus den Ihnen bekannten Gründen eingeschränkt sein wird. \nich möchte eine Änderung im Programm des Konzertes in der Christuskirche Fleestedt am 17.9.22 bekanntgeben:\nDas accio piano trio spielt: \nWolfgang Amadeus Mozart – Trio (Sonata) in G-Dur\, KV 496\nDmitri Schostakowitsch – Klaviertrio Nr. 1 in c-Moll\, op. 8 (1923) \nJohannes Brahms – Trio Nr. 1 in H-Dur für Violine\, Violoncello und Klavier\, op. 8 (rev. Fassung von 1889) \nAn der Änderung trage ich allein die Schuld und ich bitte um Verzeihung.\nSollten Sie bereits Plätze reserviert haben und an diesem Programm kein Interesse haben\, bitte ich um eine kurze Nachricht. \nWir freuen uns auf Ihr Kommen (mit Mund-\, Nasenschutz) und grüßen Sie sehr herzlich \nMargitta und Rainer Castillon\n0170 2090510\ncastillon@t-online.de
URL:https://kulturstiftung-seevetal.de/kulturkalender/kammerkonzert-in-der-christuskirche-fleetstedt/
LOCATION:Christuskirche Kammerkonzerte\, Westpreußenweg 17\, Seevetal\, 21217\, Deutschland
CATEGORIES:klassisches Konzert,Konzert
ATTACH;FMTTYPE=image/jpeg:https://kulturstiftung-seevetal.de/wp-content/uploads/2020/09/Plakat-20-09-19-e.jpg
ORGANIZER;CN="Christuskirche Fleestedt":MAILTO:castillon@t-online.de
END:VEVENT
END:VCALENDAR