BEGIN:VCALENDAR
VERSION:2.0
PRODID:-//Kulturstiftung-Seevetal - ECPv6.15.20//NONSGML v1.0//EN
CALSCALE:GREGORIAN
METHOD:PUBLISH
X-WR-CALNAME:Kulturstiftung-Seevetal
X-ORIGINAL-URL:https://kulturstiftung-seevetal.de
X-WR-CALDESC:Veranstaltungen für Kulturstiftung-Seevetal
REFRESH-INTERVAL;VALUE=DURATION:PT1H
X-Robots-Tag:noindex
X-PUBLISHED-TTL:PT1H
BEGIN:VTIMEZONE
TZID:Europe/Berlin
BEGIN:DAYLIGHT
TZOFFSETFROM:+0100
TZOFFSETTO:+0200
TZNAME:CEST
DTSTART:20190331T010000
END:DAYLIGHT
BEGIN:STANDARD
TZOFFSETFROM:+0200
TZOFFSETTO:+0100
TZNAME:CET
DTSTART:20191027T010000
END:STANDARD
BEGIN:DAYLIGHT
TZOFFSETFROM:+0100
TZOFFSETTO:+0200
TZNAME:CEST
DTSTART:20200329T010000
END:DAYLIGHT
BEGIN:STANDARD
TZOFFSETFROM:+0200
TZOFFSETTO:+0100
TZNAME:CET
DTSTART:20201025T010000
END:STANDARD
BEGIN:DAYLIGHT
TZOFFSETFROM:+0100
TZOFFSETTO:+0200
TZNAME:CEST
DTSTART:20210328T010000
END:DAYLIGHT
BEGIN:STANDARD
TZOFFSETFROM:+0200
TZOFFSETTO:+0100
TZNAME:CET
DTSTART:20211031T010000
END:STANDARD
END:VTIMEZONE
BEGIN:VEVENT
DTSTART;TZID=Europe/Berlin:20200111T193000
DTEND;TZID=Europe/Berlin:20200111T193000
DTSTAMP:20260423T234528
CREATED:20200105T185446Z
LAST-MODIFIED:20200105T185527Z
UID:10000673-1578771000-1578771000@kulturstiftung-seevetal.de
SUMMARY:96. Kammerkonzert- Barock vom Feinsten
DESCRIPTION:Samstag\, 11. Januar 2020\, 19.30 Uhr\nChristuskirche Fleestedt\nMitglieder des Philharmonischen Staatsorchesters Hamburg:\nHibiki Oshima und Felix Heckhausen – Violine\nYuko Noda – Violoncello\nMichael Fuerst – Cembalo \nGeorg Friedrich Händel – Triosonaten HWV 386a und 397\nJohann Sebastian Bach – Sonaten Nr. 5 und 6 \nEintritt: 18 und 15 Euro (Schüler und Studenten frei)
URL:https://kulturstiftung-seevetal.de/kulturkalender/96-kammerkonzert-barock-vom-feinsten/
LOCATION:Christuskirche Kammerkonzerte\, Westpreußenweg 17\, Seevetal\, 21217\, Deutschland
CATEGORIES:klassisches Konzert,Konzert
ATTACH;FMTTYPE=image/jpeg:https://kulturstiftung-seevetal.de/wp-content/uploads/2020/01/Plakat-20-01-11-i.jpg
ORGANIZER;CN="Christuskirche Fleestedt":MAILTO:castillon@t-online.de
END:VEVENT
END:VCALENDAR