BEGIN:VCALENDAR
VERSION:2.0
PRODID:-//Kulturstiftung-Seevetal - ECPv6.15.20//NONSGML v1.0//EN
CALSCALE:GREGORIAN
METHOD:PUBLISH
X-ORIGINAL-URL:https://kulturstiftung-seevetal.de
X-WR-CALDESC:Veranstaltungen für Kulturstiftung-Seevetal
REFRESH-INTERVAL;VALUE=DURATION:PT1H
X-Robots-Tag:noindex
X-PUBLISHED-TTL:PT1H
BEGIN:VTIMEZONE
TZID:Europe/Berlin
BEGIN:DAYLIGHT
TZOFFSETFROM:+0100
TZOFFSETTO:+0200
TZNAME:CEST
DTSTART:20180325T010000
END:DAYLIGHT
BEGIN:STANDARD
TZOFFSETFROM:+0200
TZOFFSETTO:+0100
TZNAME:CET
DTSTART:20181028T010000
END:STANDARD
BEGIN:DAYLIGHT
TZOFFSETFROM:+0100
TZOFFSETTO:+0200
TZNAME:CEST
DTSTART:20190331T010000
END:DAYLIGHT
BEGIN:STANDARD
TZOFFSETFROM:+0200
TZOFFSETTO:+0100
TZNAME:CET
DTSTART:20191027T010000
END:STANDARD
BEGIN:DAYLIGHT
TZOFFSETFROM:+0100
TZOFFSETTO:+0200
TZNAME:CEST
DTSTART:20200329T010000
END:DAYLIGHT
BEGIN:STANDARD
TZOFFSETFROM:+0200
TZOFFSETTO:+0100
TZNAME:CET
DTSTART:20201025T010000
END:STANDARD
END:VTIMEZONE
BEGIN:VEVENT
DTSTART;TZID=Europe/Berlin:20191115T190000
DTEND;TZID=Europe/Berlin:20191115T190000
DTSTAMP:20260424T020927
CREATED:20190318T185409Z
LAST-MODIFIED:20190318T185409Z
UID:10000617-1573844400-1573844400@kulturstiftung-seevetal.de
SUMMARY:Deutscher Vorlesetag: Krimi-Nacht mit Gabriele Schwedewsky
DESCRIPTION:
URL:https://kulturstiftung-seevetal.de/kulturkalender/deutscher-vorlesetag-krimi-nacht-mit-gabriele-schwedewsky/
LOCATION:Wassermühle Karoxbostel\, Karoxbosteler Chaussee 51\, Seevetal/ Karoxbostel\, Niedersachsen\, 21218\, Deutschland
CATEGORIES:Lesung
ATTACH;FMTTYPE=image/jpeg:https://kulturstiftung-seevetal.de/wp-content/uploads/2019/03/Meine-Muehle.jpg
ORGANIZER;CN="Wasserm%C3%BChle Karoxbostel":MAILTO:post@wassermuehle-karoxbostel.de
END:VEVENT
BEGIN:VEVENT
DTSTART;TZID=Europe/Berlin:20191115T190000
DTEND;TZID=Europe/Berlin:20191115T190000
DTSTAMP:20260424T020927
CREATED:20190929T175802Z
LAST-MODIFIED:20191021T142240Z
UID:10000667-1573844400-1573844400@kulturstiftung-seevetal.de
SUMMARY:Deutscher Vorlesetag: Claus Fuchs: - Wegen Erkrankung abgesagt
DESCRIPTION:Die Lesung muss leider abgesagt werden!\nIm Rahmen der \n„Kultur in den Häusern Seevetals“\nzeigt die Kulturstiftung Seevetal: \nClaus Fuchs liest:\nEine Reise durch die deutsche Satire von 1885 bis 1985.\nDiese Lesung heiterer Gedichte und Kurzgeschichten von\nKurt Tucholsky\, Joachim Ringelnatz\, Erich Kästner\, Eugen Roth\, Robert T. Odeman \nLukas und Lukas:\nEin musikalisches Zwischenspiel von Lukas und Lukas rundet das Programm des Abends ab. \nEs geht der Spendenhut herum \nKarten-/ Platz-Reservierungen über: Reservierung@Kulturstiftung-Seevetal.de
URL:https://kulturstiftung-seevetal.de/kulturkalender/lesung-lerne-lachen-ohne-zu-weinen-und-musikalisches-intermezzo-von-lukas-und-lukas/
LOCATION:Matthias Clausen\, Horster Landstraße 143\, Seevetal\, 21220
CATEGORIES:Konzert,Lesung
ATTACH;FMTTYPE=image/jpeg:https://kulturstiftung-seevetal.de/wp-content/uploads/2019/09/Claus5-small_neu.jpg
ORGANIZER;CN="Kulturstiftung Seevetal":MAILTO:kontakt@kulturstiftung-seevetal.de
END:VEVENT
END:VCALENDAR