BEGIN:VCALENDAR
VERSION:2.0
PRODID:-//Kulturstiftung-Seevetal - ECPv6.15.20//NONSGML v1.0//EN
CALSCALE:GREGORIAN
METHOD:PUBLISH
X-ORIGINAL-URL:https://kulturstiftung-seevetal.de
X-WR-CALDESC:Veranstaltungen für Kulturstiftung-Seevetal
REFRESH-INTERVAL;VALUE=DURATION:PT1H
X-Robots-Tag:noindex
X-PUBLISHED-TTL:PT1H
BEGIN:VTIMEZONE
TZID:Europe/Berlin
BEGIN:DAYLIGHT
TZOFFSETFROM:+0100
TZOFFSETTO:+0200
TZNAME:CEST
DTSTART:20180325T010000
END:DAYLIGHT
BEGIN:STANDARD
TZOFFSETFROM:+0200
TZOFFSETTO:+0100
TZNAME:CET
DTSTART:20181028T010000
END:STANDARD
BEGIN:DAYLIGHT
TZOFFSETFROM:+0100
TZOFFSETTO:+0200
TZNAME:CEST
DTSTART:20190331T010000
END:DAYLIGHT
BEGIN:STANDARD
TZOFFSETFROM:+0200
TZOFFSETTO:+0100
TZNAME:CET
DTSTART:20191027T010000
END:STANDARD
BEGIN:DAYLIGHT
TZOFFSETFROM:+0100
TZOFFSETTO:+0200
TZNAME:CEST
DTSTART:20200329T010000
END:DAYLIGHT
BEGIN:STANDARD
TZOFFSETFROM:+0200
TZOFFSETTO:+0100
TZNAME:CET
DTSTART:20201025T010000
END:STANDARD
END:VTIMEZONE
BEGIN:VEVENT
DTSTART;TZID=Europe/Berlin:20191107T200000
DTEND;TZID=Europe/Berlin:20191107T200000
DTSTAMP:20260424T020927
CREATED:20191103T183145Z
LAST-MODIFIED:20191103T183232Z
UID:10000671-1573156800-1573156800@kulturstiftung-seevetal.de
SUMMARY:Plattdeutscher Abend in Holtorfsloh
DESCRIPTION:Einladung \nDer HOLTORFSLOHER STAMMTISCH \nlädt ein zum \nPlattdeutschen Abend\nmit 3 Vortragenden \nam 7.11.2019 um 20 Uhr \nim Bistro Romaris in Holtorfsloh \nEintritt frei   –   Hutkasse \nWir freuen uns auf Frau Rieke Henties\, die Plattdeutsch-Beauftragte des Landkreises Harburg\, die uns über ihre Aufgabe und Arbeit „wat vertellen ward“  und 2 weitere Vortragende\, die etwas „Fines för uns lesen möcht“. \nDer Holtorfsloher Stammtisch      c/o Gaby Rödiger \nMit freundlicher Unterstützung der Kulturstiftung- Seevetal
URL:https://kulturstiftung-seevetal.de/kulturkalender/plattdeutscher-abend-in-holtorfsloh/
LOCATION:Romaris Holtorfsloh\, Steller Str. 1\, Seevetal\, 21220\, Deutschland
CATEGORIES:Plattdeutsch,Vortrag
ATTACH;FMTTYPE=image/jpeg:https://kulturstiftung-seevetal.de/wp-content/uploads/2019/11/Einladung-plattdeutscher-abend-.jpg
END:VEVENT
END:VCALENDAR