BEGIN:VCALENDAR
VERSION:2.0
PRODID:-//Kulturstiftung-Seevetal - ECPv6.15.20//NONSGML v1.0//EN
CALSCALE:GREGORIAN
METHOD:PUBLISH
X-WR-CALNAME:Kulturstiftung-Seevetal
X-ORIGINAL-URL:https://kulturstiftung-seevetal.de
X-WR-CALDESC:Veranstaltungen für Kulturstiftung-Seevetal
REFRESH-INTERVAL;VALUE=DURATION:PT1H
X-Robots-Tag:noindex
X-PUBLISHED-TTL:PT1H
BEGIN:VTIMEZONE
TZID:Europe/Berlin
BEGIN:DAYLIGHT
TZOFFSETFROM:+0100
TZOFFSETTO:+0200
TZNAME:CEST
DTSTART:20180325T010000
END:DAYLIGHT
BEGIN:STANDARD
TZOFFSETFROM:+0200
TZOFFSETTO:+0100
TZNAME:CET
DTSTART:20181028T010000
END:STANDARD
BEGIN:DAYLIGHT
TZOFFSETFROM:+0100
TZOFFSETTO:+0200
TZNAME:CEST
DTSTART:20190331T010000
END:DAYLIGHT
BEGIN:STANDARD
TZOFFSETFROM:+0200
TZOFFSETTO:+0100
TZNAME:CET
DTSTART:20191027T010000
END:STANDARD
BEGIN:DAYLIGHT
TZOFFSETFROM:+0100
TZOFFSETTO:+0200
TZNAME:CEST
DTSTART:20200329T010000
END:DAYLIGHT
BEGIN:STANDARD
TZOFFSETFROM:+0200
TZOFFSETTO:+0100
TZNAME:CET
DTSTART:20201025T010000
END:STANDARD
END:VTIMEZONE
BEGIN:VEVENT
DTSTART;TZID=Europe/Berlin:20191102T200000
DTEND;TZID=Europe/Berlin:20191102T200000
DTSTAMP:20260424T010255
CREATED:20191011T153835Z
LAST-MODIFIED:20191014T142953Z
UID:10000669-1572724800-1572724800@kulturstiftung-seevetal.de
SUMMARY:rock pop soul - live on stage
DESCRIPTION:Im Rahmen der \n„Kultur in den Häusern Seevetals“\nzeigt die Kulturstiftung Seevetal: \nSänger Kollektiv\nmit\nMalin Ruschmeyer\nJulian Rasmussen\nNora Sänger\nLuka&Lukas \nund special guest:\nMimi Schell\nAm 2.11. im Fleester Hoff. Beginn: 20:00 Einlass: 19:30\nAnfahrt zum Parkplatz Fleester Hoff über Fleestedt Dorf und von dort die Straße Im Alten Dorfe \nEintritt: 15€ Schüler/ Studenten: 10€\nKarten nur an der Abendkasse!\n \nKarten-Reservierungen über: Reservierung@Kulturstiftung-Seevetal.de \nMit freundlicher Unterstützung durch:
URL:https://kulturstiftung-seevetal.de/kulturkalender/607/
LOCATION:Fleester Hoff\, Winsener Landstraße 52\, Seevetal/ Fleestedt\, 21217
CATEGORIES:Konzert,Pop,Rock,Soul
ATTACH;FMTTYPE=image/jpeg:https://kulturstiftung-seevetal.de/wp-content/uploads/2019/10/Flyer-2.11._Korrektur.jpg
ORGANIZER;CN="Kulturstiftung Seevetal":MAILTO:kontakt@kulturstiftung-seevetal.de
END:VEVENT
BEGIN:VEVENT
DTSTART;TZID=Europe/Berlin:20191102T190000
DTEND;TZID=Europe/Berlin:20191102T190000
DTSTAMP:20260424T010255
CREATED:20191022T162237Z
LAST-MODIFIED:20191022T162305Z
UID:10000670-1572721200-1572721200@kulturstiftung-seevetal.de
SUMMARY:96. Kammerkonzert  "Canción y Danza"
DESCRIPTION:Unter dem Titel „Canción y Danza“\nspielt das Trio „sixty1strings“ mit Negin Habibi (Gitarre)\, Ekaterina Solovey (Mandoline) und Konstanze Kuß (Harfe) Werke von Debussy\, Saint-Saëns\, Villa-Lobos\, Piazzolla\, Ginastera u.a. \nDas Trio „sixty1strings“ wurde im Jahr 2013 in der außergewöhnlichen Besetzung Gitarre\, Mandoline und Harfe von der Gitarristin Negin Habibi und der Harfenistin Konstanze Kuss gegründet und 2015 mit der russischen Mandolinistin Ekaterina Solovey komplettiert. Seitdem hat sixty1strings in zahlreichen Konzerten im In- und Ausland das Publikum begeistert und sich einen festen Platz im Konzertleben gesichert. Ein weiteres Alleinstellungsmerkmal dieses Ensembles ist das Spielen sowohl auf modernen klassischen Instrumenten\, als auch auf den historischen Pendants: spanische Barockharfe\, Barockmandoline und -gitarre.\nDie renommierten und mehrfach in nationalen und internationalen Wettbewerben ausgezeichneten Musikerinnen Konstanze Kuss (Harfe)\, Ekaterina Solovey (Mandoline) und Negin Habibi (Gitarre) widmen sich mit Begeisterung dem Einstudieren von Originalkompositionen und dem Transkribieren geeigneter\, meist orchestraler Werke\, um diesen besonderen Klang\, den diese drei ähnlichen und doch charakteristischen Instrumente haben\, einem breiten Publikum zu präsentieren. Im Frühjahr 2020 erscheint ihre erste CD-Einspielung beim angesehenen Leipziger Label GENUIN. \nEintritt: 18 und 15 Euro (Schüler und Studenten frei)
URL:https://kulturstiftung-seevetal.de/kulturkalender/96-kammerkonzert-cancion-y-danza-2/
LOCATION:Christuskirche Kammerkonzerte\, Westpreußenweg 17\, Seevetal\, 21217\, Deutschland
CATEGORIES:klassisches Konzert,Konzert
ATTACH;FMTTYPE=image/jpeg:https://kulturstiftung-seevetal.de/wp-content/uploads/2019/10/neu_67A4019_qudrat.jpg
ORGANIZER;CN="Christuskirche Fleestedt":MAILTO:castillon@t-online.de
END:VEVENT
END:VCALENDAR