BEGIN:VCALENDAR
VERSION:2.0
PRODID:-//Kulturstiftung-Seevetal - ECPv6.15.20//NONSGML v1.0//EN
CALSCALE:GREGORIAN
METHOD:PUBLISH
X-ORIGINAL-URL:https://kulturstiftung-seevetal.de
X-WR-CALDESC:Veranstaltungen für Kulturstiftung-Seevetal
REFRESH-INTERVAL;VALUE=DURATION:PT1H
X-Robots-Tag:noindex
X-PUBLISHED-TTL:PT1H
BEGIN:VTIMEZONE
TZID:Europe/Berlin
BEGIN:DAYLIGHT
TZOFFSETFROM:+0100
TZOFFSETTO:+0200
TZNAME:CEST
DTSTART:20180325T010000
END:DAYLIGHT
BEGIN:STANDARD
TZOFFSETFROM:+0200
TZOFFSETTO:+0100
TZNAME:CET
DTSTART:20181028T010000
END:STANDARD
BEGIN:DAYLIGHT
TZOFFSETFROM:+0100
TZOFFSETTO:+0200
TZNAME:CEST
DTSTART:20190331T010000
END:DAYLIGHT
BEGIN:STANDARD
TZOFFSETFROM:+0200
TZOFFSETTO:+0100
TZNAME:CET
DTSTART:20191027T010000
END:STANDARD
BEGIN:DAYLIGHT
TZOFFSETFROM:+0100
TZOFFSETTO:+0200
TZNAME:CEST
DTSTART:20200329T010000
END:DAYLIGHT
BEGIN:STANDARD
TZOFFSETFROM:+0200
TZOFFSETTO:+0100
TZNAME:CET
DTSTART:20201025T010000
END:STANDARD
END:VTIMEZONE
BEGIN:VEVENT
DTSTART;TZID=Europe/Berlin:20191026T190000
DTEND;TZID=Europe/Berlin:20191026T190000
DTSTAMP:20260424T021923
CREATED:20191011T152645Z
LAST-MODIFIED:20191019T144504Z
UID:10000668-1572116400-1572116400@kulturstiftung-seevetal.de
SUMMARY:Elo & Friends: Acoustic Session. Pop Covers und eigene Songs. Gefühlsvolle Musik mit melodischen und melancholischen Liedern\,
DESCRIPTION:Im Rahmen der \n„Kultur in den Häusern Seevetals“\nzeigt die Kulturstiftung Seevetal: \nElo & Friends: Acoustic Session. Pop Covers und eigene Songs.\nSängerin Elodie präsentiert mit Band Interpretationen von Pop Songs und eigene Kompositionen. Ein akustischer Abend in gemütlicher Atmosphäre mit ruhiger\, gefühlsvoller Musik\, melodischen und melancholischen Liedern. Gesang & Keyboard.  \nAm 26.10 in der Wassermühle Karoxbostel Beginn 19:00 \nEintritt frei – es geht der Hut herum\n \nPlatz-Reservierungen über: Reservierung@Kulturstiftung-Seevetal.de
URL:https://kulturstiftung-seevetal.de/kulturkalender/elo-friends-acoustic-session-pop-covers-und-eigene-songs-gefuehlsvolle-musik-mit-melodischen-und-melancholischen-liedern/
LOCATION:Wassermühle Karoxbostel\, Karoxbosteler Chaussee 51\, Seevetal/ Karoxbostel\, Niedersachsen\, 21218\, Deutschland
CATEGORIES:Konzert,Lieder (melod.)
ATTACH;FMTTYPE=image/jpeg:https://kulturstiftung-seevetal.de/wp-content/uploads/2019/10/Flyer_Konzert_26.10_A5.jpg
ORGANIZER;CN="Kulturstiftung Seevetal":MAILTO:kontakt@kulturstiftung-seevetal.de
END:VEVENT
BEGIN:VEVENT
DTSTART;TZID=Europe/Berlin:20191027T160000
DTEND;TZID=Europe/Berlin:20191027T173000
DTSTAMP:20260424T021923
CREATED:20190929T082933Z
LAST-MODIFIED:20191018T080802Z
UID:10000665-1572192000-1572197400@kulturstiftung-seevetal.de
SUMMARY:Schwedische Folkmusik auf der Diele
DESCRIPTION:Im Rahmen der \n„Kultur in den Häusern Seevetals“\nzeigt die Kulturstiftung Seevetal: \nSchwedische Folkmusik auf der Diele\n\nAlte Klänge aus Dalarna\, Småland\, Uppland\nMargareta Schirmamacher (Violine)\nIngrid Bladt (Nyckelharpa)\n\nRingsraße 77\, Seevetal-Lindhorst \n(Konzertdauer ca 1 Std) \nBegrenzte Anzahl Gäste: ca. 20 Personen \nEs geht der Spendenhut herum \nIngrid Bladt ist Dänin und spielt außer schwedischer auch dänische Folklore\, hat aber ihre Liebe zur schwedischen Musik auf schwedischen Spielmanntreffen entdeckt.\nMargareta Schirmacher ist Halbschwedin und der schwedischen Folkmusiken seit jeher verfallen. Margareta versucht es in ihrer Freizeit stetig weiter zu vertiefen. Besonders interessant ist es für Margareta\, dass sich die Folkmusikstücke zwischen den verschiedenen Provinzen in Schweden deutlich voneinander unterscheiden. \nDie Nyckelharpa ist ein sehr altes Streichinstrument aus Schweden\, man vermutet aus dem 15. Jahrhundert. In Schweden hat dieses vor dem Bauch gestrichene Instrument eine lange Tradition. Die Saiten werden mit sog. Tasten (Schlüsseln) gegriffen. Meist 3 Spielsaiten\, 1 Bordunsaite\, 10-12 Resonanzsaiten (die nur mitschwingen). \nPlatz-Reservierungen über: Reservierung@Kulturstiftung-Seevetal.de
URL:https://kulturstiftung-seevetal.de/kulturkalender/schwedische-folkmusik-auf-der-diele/
LOCATION:Margareta\, Schirmamacher\, Ringsraße 77\, Seevetal-Lindhorst\, 21218
CATEGORIES:Folk Songs,Konzert
ATTACH;FMTTYPE=image/png:https://kulturstiftung-seevetal.de/wp-content/uploads/2019/09/Ingrid-und-Margareta_xx_Svensk-folkmusik.png
ORGANIZER;CN="Kulturstiftung Seevetal":MAILTO:kontakt@kulturstiftung-seevetal.de
END:VEVENT
END:VCALENDAR