BEGIN:VCALENDAR
VERSION:2.0
PRODID:-//Kulturstiftung-Seevetal - ECPv6.15.20//NONSGML v1.0//EN
CALSCALE:GREGORIAN
METHOD:PUBLISH
X-ORIGINAL-URL:https://kulturstiftung-seevetal.de
X-WR-CALDESC:Veranstaltungen für Kulturstiftung-Seevetal
REFRESH-INTERVAL;VALUE=DURATION:PT1H
X-Robots-Tag:noindex
X-PUBLISHED-TTL:PT1H
BEGIN:VTIMEZONE
TZID:Europe/Berlin
BEGIN:DAYLIGHT
TZOFFSETFROM:+0100
TZOFFSETTO:+0200
TZNAME:CEST
DTSTART:20180325T010000
END:DAYLIGHT
BEGIN:STANDARD
TZOFFSETFROM:+0200
TZOFFSETTO:+0100
TZNAME:CET
DTSTART:20181028T010000
END:STANDARD
BEGIN:DAYLIGHT
TZOFFSETFROM:+0100
TZOFFSETTO:+0200
TZNAME:CEST
DTSTART:20190331T010000
END:DAYLIGHT
BEGIN:STANDARD
TZOFFSETFROM:+0200
TZOFFSETTO:+0100
TZNAME:CET
DTSTART:20191027T010000
END:STANDARD
BEGIN:DAYLIGHT
TZOFFSETFROM:+0100
TZOFFSETTO:+0200
TZNAME:CEST
DTSTART:20200329T010000
END:DAYLIGHT
BEGIN:STANDARD
TZOFFSETFROM:+0200
TZOFFSETTO:+0100
TZNAME:CET
DTSTART:20201025T010000
END:STANDARD
END:VTIMEZONE
BEGIN:VEVENT
DTSTART;TZID=Europe/Berlin:20191002T200000
DTEND;TZID=Europe/Berlin:20191002T200000
DTSTAMP:20260424T021608
CREATED:20190514T185734Z
LAST-MODIFIED:20190521T190546Z
UID:10000658-1570046400-1570046400@kulturstiftung-seevetal.de
SUMMARY:Sluderkram in't Treppenhuuus - Theatergruppe des MTV Ramelsloh
DESCRIPTION:Sluderkram in’t Treppenhuuus \nWonehm dat Stück vun hannelt ?? dat weit ick nich…
URL:https://kulturstiftung-seevetal.de/kulturkalender/een-froo-foer-den-klabautermann-theatergruppe-des-mtv-ramelsloh-6/
LOCATION:Landeskirchliche Gemeinschaft (LKG) Ohlendorf\, Missionsweg 11\, Seevetal-Ohlendorf\, 21220
CATEGORIES:Plattdeutsch,Theater
ATTACH;FMTTYPE=image/jpeg:https://kulturstiftung-seevetal.de/wp-content/uploads/2019/05/MTV-Theater.jpg
ORGANIZER;CN="Theatergruppe des MTV Ramelsloh":MAILTO:theater@mtv-ramelsloh.de
END:VEVENT
BEGIN:VEVENT
DTSTART;TZID=Europe/Berlin:20191003T153000
DTEND;TZID=Europe/Berlin:20191003T153000
DTSTAMP:20260424T021608
CREATED:20190514T185834Z
LAST-MODIFIED:20190521T190516Z
UID:10000659-1570116600-1570116600@kulturstiftung-seevetal.de
SUMMARY:Sluderkram in't Treppenhuuus - Theatergruppe des MTV Ramelsloh
DESCRIPTION:Sluderkram in’t Treppenhuuus \nWonehm dat Stück vun hannelt ?? dat weit ick nich…
URL:https://kulturstiftung-seevetal.de/kulturkalender/een-froo-foer-den-klabautermann-theatergruppe-des-mtv-ramelsloh-7/
LOCATION:Landeskirchliche Gemeinschaft (LKG) Ohlendorf\, Missionsweg 11\, Seevetal-Ohlendorf\, 21220
CATEGORIES:Plattdeutsch,Theater
ATTACH;FMTTYPE=image/jpeg:https://kulturstiftung-seevetal.de/wp-content/uploads/2019/05/MTV-Theater.jpg
ORGANIZER;CN="Theatergruppe des MTV Ramelsloh":MAILTO:theater@mtv-ramelsloh.de
END:VEVENT
BEGIN:VEVENT
DTSTART;TZID=Europe/Berlin:20191003T170000
DTEND;TZID=Europe/Berlin:20191003T190000
DTSTAMP:20260424T021608
CREATED:20190521T182909Z
LAST-MODIFIED:20190521T182909Z
UID:10000662-1570122000-1570129200@kulturstiftung-seevetal.de
SUMMARY:Konzert am Tag der Deutschen Einheit
DESCRIPTION:Konzert am Tag der Deutschen Einheit\, 03. 10. 2019\, 17:00 Uhr\, Burg Seevetal\, Am Göhlenbach \nMitwirkende Singkreis Auetal Wulfsen\, Akkordeon-Orchester Hamburg.
URL:https://kulturstiftung-seevetal.de/kulturkalender/konzert-am-tag-der-deutschen-einheit/
LOCATION:Burg Seevetal\, Am Göhlenbach 11\, Seevetal\, 21218\, Deutschland
CATEGORIES:Chor,klassisches Konzert,Konzert
ATTACH;FMTTYPE=image/png:https://kulturstiftung-seevetal.de/wp-content/uploads/2019/05/Saengerlust-Fleestedt.png
ORGANIZER;CN="M%C3%A4nnerchor S%C3%A4ngerlust Fleestedt e.V.":MAILTO:ralf.lange@saengerlust-fleestedt.de
END:VEVENT
BEGIN:VEVENT
DTSTART;TZID=Europe/Berlin:20191004T200000
DTEND;TZID=Europe/Berlin:20191004T200000
DTSTAMP:20260424T021608
CREATED:20190514T185929Z
LAST-MODIFIED:20190521T190443Z
UID:10000660-1570219200-1570219200@kulturstiftung-seevetal.de
SUMMARY:Sluderkram in't Treppenhuuus - Theatergruppe des MTV Ramelsloh
DESCRIPTION:Sluderkram in’t Treppenhuuus \nWonehm dat Stück vun hannelt ?? dat weit ick nich…
URL:https://kulturstiftung-seevetal.de/kulturkalender/een-froo-foer-den-klabautermann-theatergruppe-des-mtv-ramelsloh-8/
LOCATION:Landeskirchliche Gemeinschaft (LKG) Ohlendorf\, Missionsweg 11\, Seevetal-Ohlendorf\, 21220
CATEGORIES:Plattdeutsch,Theater
ATTACH;FMTTYPE=image/jpeg:https://kulturstiftung-seevetal.de/wp-content/uploads/2019/05/MTV-Theater.jpg
ORGANIZER;CN="Theatergruppe des MTV Ramelsloh":MAILTO:theater@mtv-ramelsloh.de
END:VEVENT
END:VCALENDAR