BEGIN:VCALENDAR
VERSION:2.0
PRODID:-//Kulturstiftung-Seevetal - ECPv6.15.20//NONSGML v1.0//EN
CALSCALE:GREGORIAN
METHOD:PUBLISH
X-WR-CALNAME:Kulturstiftung-Seevetal
X-ORIGINAL-URL:https://kulturstiftung-seevetal.de
X-WR-CALDESC:Veranstaltungen für Kulturstiftung-Seevetal
REFRESH-INTERVAL;VALUE=DURATION:PT1H
X-Robots-Tag:noindex
X-PUBLISHED-TTL:PT1H
BEGIN:VTIMEZONE
TZID:Europe/Berlin
BEGIN:DAYLIGHT
TZOFFSETFROM:+0100
TZOFFSETTO:+0200
TZNAME:CEST
DTSTART:20180325T010000
END:DAYLIGHT
BEGIN:STANDARD
TZOFFSETFROM:+0200
TZOFFSETTO:+0100
TZNAME:CET
DTSTART:20181028T010000
END:STANDARD
BEGIN:DAYLIGHT
TZOFFSETFROM:+0100
TZOFFSETTO:+0200
TZNAME:CEST
DTSTART:20190331T010000
END:DAYLIGHT
BEGIN:STANDARD
TZOFFSETFROM:+0200
TZOFFSETTO:+0100
TZNAME:CET
DTSTART:20191027T010000
END:STANDARD
BEGIN:DAYLIGHT
TZOFFSETFROM:+0100
TZOFFSETTO:+0200
TZNAME:CEST
DTSTART:20200329T010000
END:DAYLIGHT
BEGIN:STANDARD
TZOFFSETFROM:+0200
TZOFFSETTO:+0100
TZNAME:CET
DTSTART:20201025T010000
END:STANDARD
END:VTIMEZONE
BEGIN:VEVENT
DTSTART;TZID=Europe/Berlin:20190907T200000
DTEND;TZID=Europe/Berlin:20190907T220000
DTSTAMP:20260424T050416
CREATED:20190711T191251Z
LAST-MODIFIED:20190711T191251Z
UID:10000563-1567886400-1567893600@kulturstiftung-seevetal.de
SUMMARY:Hair
DESCRIPTION:The American Tribal Love/Rock Musical \n\nDas Zeitalter des „Aquarius“ bricht nun auch (wieder) in Seevetal an. Ursprünglich 1968 in New York uraufgeführt\, brachte spätestens der 1979 erschienene Film den Welterfolg für Melodien und Gedanken wie „Let the sunshine in“\, Good morning Starshine“ oder „I got life“. THE MUSICAL COMPANY entstaubt den alten Klassiker und präsentiert das englischsprachige Original in modernem Gewand mit der Botschaft von damals: Harmony and Understanding!
URL:https://kulturstiftung-seevetal.de/kulturkalender/hair/
LOCATION:Burg Seevetal\, Am Göhlenbach 11\, Seevetal\, 21218\, Deutschland
CATEGORIES:Konzert,Musical
ATTACH;FMTTYPE=image/png:https://kulturstiftung-seevetal.de/wp-content/uploads/2019/07/Hair-Bg-lang.png
ORGANIZER;CN="The Musical Company":MAILTO:mail@themusicalcompany.de
END:VEVENT
BEGIN:VEVENT
DTSTART;TZID=Europe/Berlin:20190908T110000
DTEND;TZID=Europe/Berlin:20190908T180000
DTSTAMP:20260424T050416
CREATED:20190318T185155Z
LAST-MODIFIED:20190318T185155Z
UID:10000615-1567940400-1567965600@kulturstiftung-seevetal.de
SUMMARY:Tag des offenen Denkmals
DESCRIPTION:
URL:https://kulturstiftung-seevetal.de/kulturkalender/tag-des-offenen-denkmals/
LOCATION:Wassermühle Karoxbostel\, Karoxbosteler Chaussee 51\, Seevetal/ Karoxbostel\, Niedersachsen\, 21218\, Deutschland
CATEGORIES:Markt,Museumsführung
ATTACH;FMTTYPE=image/jpeg:https://kulturstiftung-seevetal.de/wp-content/uploads/2019/03/Meine-Muehle.jpg
ORGANIZER;CN="Wasserm%C3%BChle Karoxbostel":MAILTO:post@wassermuehle-karoxbostel.de
END:VEVENT
BEGIN:VEVENT
DTSTART;TZID=Europe/Berlin:20190908T150000
DTEND;TZID=Europe/Berlin:20190908T170000
DTSTAMP:20260424T050416
CREATED:20190711T191507Z
LAST-MODIFIED:20190711T191731Z
UID:10000564-1567954800-1567962000@kulturstiftung-seevetal.de
SUMMARY:Hair
DESCRIPTION:The American Tribal Love/Rock Musical \n\nDas Zeitalter des „Aquarius“ bricht nun auch (wieder) in Seevetal an. Ursprünglich 1968 in New York uraufgeführt\, brachte spätestens der 1979 erschienene Film den Welterfolg für Melodien und Gedanken wie „Let the sunshine in“\, Good morning Starshine“ oder „I got life“. THE MUSICAL COMPANY entstaubt den alten Klassiker und präsentiert das englischsprachige Original in modernem Gewand mit der Botschaft von damals: Harmony and Understanding!
URL:https://kulturstiftung-seevetal.de/kulturkalender/hair-2/
LOCATION:Burg Seevetal\, Am Göhlenbach 11\, Seevetal\, 21218\, Deutschland
CATEGORIES:Konzert,Musical
ATTACH;FMTTYPE=image/png:https://kulturstiftung-seevetal.de/wp-content/uploads/2019/07/Hair-Bg-lang.png
ORGANIZER;CN="The Musical Company":MAILTO:mail@themusicalcompany.de
END:VEVENT
END:VCALENDAR