BEGIN:VCALENDAR
VERSION:2.0
PRODID:-//Kulturstiftung-Seevetal - ECPv6.15.20//NONSGML v1.0//EN
CALSCALE:GREGORIAN
METHOD:PUBLISH
X-ORIGINAL-URL:https://kulturstiftung-seevetal.de
X-WR-CALDESC:Veranstaltungen für Kulturstiftung-Seevetal
REFRESH-INTERVAL;VALUE=DURATION:PT1H
X-Robots-Tag:noindex
X-PUBLISHED-TTL:PT1H
BEGIN:VTIMEZONE
TZID:Europe/Berlin
BEGIN:DAYLIGHT
TZOFFSETFROM:+0100
TZOFFSETTO:+0200
TZNAME:CEST
DTSTART:20180325T010000
END:DAYLIGHT
BEGIN:STANDARD
TZOFFSETFROM:+0200
TZOFFSETTO:+0100
TZNAME:CET
DTSTART:20181028T010000
END:STANDARD
BEGIN:DAYLIGHT
TZOFFSETFROM:+0100
TZOFFSETTO:+0200
TZNAME:CEST
DTSTART:20190331T010000
END:DAYLIGHT
BEGIN:STANDARD
TZOFFSETFROM:+0200
TZOFFSETTO:+0100
TZNAME:CET
DTSTART:20191027T010000
END:STANDARD
BEGIN:DAYLIGHT
TZOFFSETFROM:+0100
TZOFFSETTO:+0200
TZNAME:CEST
DTSTART:20200329T010000
END:DAYLIGHT
BEGIN:STANDARD
TZOFFSETFROM:+0200
TZOFFSETTO:+0100
TZNAME:CET
DTSTART:20201025T010000
END:STANDARD
END:VTIMEZONE
BEGIN:VEVENT
DTSTART;TZID=Europe/Berlin:20190707T103000
DTEND;TZID=Europe/Berlin:20190707T103000
DTSTAMP:20260424T061345
CREATED:20190318T184645Z
LAST-MODIFIED:20190318T184645Z
UID:10000612-1562495400-1562495400@kulturstiftung-seevetal.de
SUMMARY:Sommerkirche
DESCRIPTION:
URL:https://kulturstiftung-seevetal.de/kulturkalender/sommerkirche/
LOCATION:Wassermühle Karoxbostel\, Karoxbosteler Chaussee 51\, Seevetal/ Karoxbostel\, Niedersachsen\, 21218\, Deutschland
ATTACH;FMTTYPE=image/jpeg:https://kulturstiftung-seevetal.de/wp-content/uploads/2019/03/2018-09-09-Muehle-Karoxbostel_Tag_des_offenen_Denkmals-0105.jpg
ORGANIZER;CN="Wasserm%C3%BChle Karoxbostel":MAILTO:post@wassermuehle-karoxbostel.de
END:VEVENT
BEGIN:VEVENT
DTSTART;TZID=Europe/Berlin:20190707T140000
DTEND;TZID=Europe/Berlin:20190707T180000
DTSTAMP:20260424T061345
CREATED:20190408T203951Z
LAST-MODIFIED:20190408T203951Z
UID:10000632-1562508000-1562522400@kulturstiftung-seevetal.de
SUMMARY:Kinetischer Skulpturenpark| Ausstellung| Gernot Huber-Stiftung Ramelsloh.
DESCRIPTION:Kinetischer Skulpturenpark| Ausstellung| Gernot Huber-Stiftung Ramelsloh.
URL:https://kulturstiftung-seevetal.de/kulturkalender/kinetischer-skulpturenpark-ausstellung-gernot-huber-stiftung-ramelsloh-2/
LOCATION:Gernot Huber Stiftung\, Ulenbarg 5\, Seevetal-Ramelsloh\, 21220
CATEGORIES:Ausstellung,Skulpturen
ATTACH;FMTTYPE=image/jpeg:https://kulturstiftung-seevetal.de/wp-content/uploads/2019/04/gernot-huber-stiftung.jpg
ORGANIZER;CN="Gernot Huber Stiftung":MAILTO:gernothuber@web.de
END:VEVENT
END:VCALENDAR