BEGIN:VCALENDAR
VERSION:2.0
PRODID:-//Kulturstiftung-Seevetal - ECPv6.15.20//NONSGML v1.0//EN
CALSCALE:GREGORIAN
METHOD:PUBLISH
X-WR-CALNAME:Kulturstiftung-Seevetal
X-ORIGINAL-URL:https://kulturstiftung-seevetal.de
X-WR-CALDESC:Veranstaltungen für Kulturstiftung-Seevetal
REFRESH-INTERVAL;VALUE=DURATION:PT1H
X-Robots-Tag:noindex
X-PUBLISHED-TTL:PT1H
BEGIN:VTIMEZONE
TZID:Europe/Berlin
BEGIN:DAYLIGHT
TZOFFSETFROM:+0100
TZOFFSETTO:+0200
TZNAME:CEST
DTSTART:20180325T010000
END:DAYLIGHT
BEGIN:STANDARD
TZOFFSETFROM:+0200
TZOFFSETTO:+0100
TZNAME:CET
DTSTART:20181028T010000
END:STANDARD
BEGIN:DAYLIGHT
TZOFFSETFROM:+0100
TZOFFSETTO:+0200
TZNAME:CEST
DTSTART:20190331T010000
END:DAYLIGHT
BEGIN:STANDARD
TZOFFSETFROM:+0200
TZOFFSETTO:+0100
TZNAME:CET
DTSTART:20191027T010000
END:STANDARD
BEGIN:DAYLIGHT
TZOFFSETFROM:+0100
TZOFFSETTO:+0200
TZNAME:CEST
DTSTART:20200329T010000
END:DAYLIGHT
BEGIN:STANDARD
TZOFFSETFROM:+0200
TZOFFSETTO:+0100
TZNAME:CET
DTSTART:20201025T010000
END:STANDARD
END:VTIMEZONE
BEGIN:VEVENT
DTSTART;TZID=Europe/Berlin:20190629T110000
DTEND;TZID=Europe/Berlin:20190629T180000
DTSTAMP:20260424T072643
CREATED:20190318T184125Z
LAST-MODIFIED:20230521T115529Z
UID:10000611-1561806000-1561831200@kulturstiftung-seevetal.de
SUMMARY:Deutscher Mühlentag
DESCRIPTION:Deutscher Mühlentag an der Wassermühle Karoxbostel
URL:https://kulturstiftung-seevetal.de/kulturkalender/deutscher-muehlentag/
LOCATION:Wassermühle Karoxbostel\, Karoxbosteler Chaussee 51\, Seevetal/ Karoxbostel\, Niedersachsen\, 21218\, Deutschland
CATEGORIES:Markt,Museumsführung
ATTACH;FMTTYPE=image/jpeg:https://kulturstiftung-seevetal.de/wp-content/uploads/2019/03/Meine-Muehle.jpg
ORGANIZER;CN="Wasserm%C3%BChle Karoxbostel":MAILTO:post@wassermuehle-karoxbostel.de
END:VEVENT
BEGIN:VEVENT
DTSTART;TZID=Europe/Berlin:20190630T120000
DTEND;TZID=Europe/Berlin:20190630T170000
DTSTAMP:20260424T072643
CREATED:20190521T174749Z
LAST-MODIFIED:20190521T174749Z
UID:10000661-1561896000-1561914000@kulturstiftung-seevetal.de
SUMMARY:Sommerfest der Fleestedter Chöre
DESCRIPTION:Sommerfest der Fleestedter Chöre\nStundenkonzert 14:00-15:00 Uhr
URL:https://kulturstiftung-seevetal.de/kulturkalender/sommerfest-der-fleestedter-choere/
LOCATION:Fleester Hoff\, Winsener Landstraße 52\, Seevetal/ Fleestedt\, 21217
CATEGORIES:Chor,Konzert
ATTACH;FMTTYPE=image/png:https://kulturstiftung-seevetal.de/wp-content/uploads/2019/05/Saengerlust-Fleestedt.png
ORGANIZER;CN="M%C3%A4nnerchor S%C3%A4ngerlust Fleestedt e.V.":MAILTO:ralf.lange@saengerlust-fleestedt.de
END:VEVENT
END:VCALENDAR