BEGIN:VCALENDAR
VERSION:2.0
PRODID:-//Kulturstiftung-Seevetal - ECPv6.15.20//NONSGML v1.0//EN
CALSCALE:GREGORIAN
METHOD:PUBLISH
X-WR-CALNAME:Kulturstiftung-Seevetal
X-ORIGINAL-URL:https://kulturstiftung-seevetal.de
X-WR-CALDESC:Veranstaltungen für Kulturstiftung-Seevetal
REFRESH-INTERVAL;VALUE=DURATION:PT1H
X-Robots-Tag:noindex
X-PUBLISHED-TTL:PT1H
BEGIN:VTIMEZONE
TZID:Europe/Berlin
BEGIN:DAYLIGHT
TZOFFSETFROM:+0100
TZOFFSETTO:+0200
TZNAME:CEST
DTSTART:20180325T010000
END:DAYLIGHT
BEGIN:STANDARD
TZOFFSETFROM:+0200
TZOFFSETTO:+0100
TZNAME:CET
DTSTART:20181028T010000
END:STANDARD
BEGIN:DAYLIGHT
TZOFFSETFROM:+0100
TZOFFSETTO:+0200
TZNAME:CEST
DTSTART:20190331T010000
END:DAYLIGHT
BEGIN:STANDARD
TZOFFSETFROM:+0200
TZOFFSETTO:+0100
TZNAME:CET
DTSTART:20191027T010000
END:STANDARD
BEGIN:DAYLIGHT
TZOFFSETFROM:+0100
TZOFFSETTO:+0200
TZNAME:CEST
DTSTART:20200329T010000
END:DAYLIGHT
BEGIN:STANDARD
TZOFFSETFROM:+0200
TZOFFSETTO:+0100
TZNAME:CET
DTSTART:20201025T010000
END:STANDARD
END:VTIMEZONE
BEGIN:VEVENT
DTSTART;TZID=Europe/Berlin:20190610T180000
DTEND;TZID=Europe/Berlin:20190610T180000
DTSTAMP:20260424T102015
CREATED:20190318T211202Z
LAST-MODIFIED:20190318T211202Z
UID:10000622-1560189600-1560189600@kulturstiftung-seevetal.de
SUMMARY:93. Kammerkonzert - NIMA-QUARTETT
DESCRIPTION:NIMA-QUARTETT \nHarim Chun und Barbara Gruszczynska – Violine\nAline Saniter – Viola\nKatharina Kühl – Violoncello \nSchubert – Quartettsatz c-moll\, D 703\nBeethoven – Quartett Es-Dur\, 0p.74\nJanácek – Streichquartett Nr.2 „Intime Briefe“
URL:https://kulturstiftung-seevetal.de/kulturkalender/93-kammerkonzert-nima-quartett/
LOCATION:Christuskirche Kammerkonzerte\, Westpreußenweg 17\, Seevetal\, 21217\, Deutschland
CATEGORIES:klassisches Konzert,Konzert
ATTACH;FMTTYPE=image/jpeg:https://kulturstiftung-seevetal.de/wp-content/uploads/2019/03/csm_Nimaquartett_91c9bafba8.jpg
ORGANIZER;CN="Christuskirche Fleestedt":MAILTO:castillon@t-online.de
END:VEVENT
BEGIN:VEVENT
DTSTART;TZID=Europe/Berlin:20190615T120000
DTEND;TZID=Europe/Berlin:20190615T170000
DTSTAMP:20260424T102015
CREATED:20190409T100155Z
LAST-MODIFIED:20190409T100223Z
UID:10000635-1560600000-1560618000@kulturstiftung-seevetal.de
SUMMARY:Kontraste| Kunstausstellung| Haus Huckfeld Seevetal
DESCRIPTION:„Kontraste“ – Wo Licht ist\, ist auch Schatten. Nicht nur im Leben\nder Künstlerinnen und Künstler\, sondern auch in den Bildern\ndes Farbwelten Ateliers Huckfeld. Die Bilder der Kunstgruppe\nleben von dem Licht\, das aus den dunklen Teilen des Bildes\nhervorsticht. Starke Kontraste und Gegensätze wie Licht und\nSchatten wurden zum Markenzeichen dieser außergewöhnlichen\nKünstler und Künstlerinnen. Am 15. Juni 12–17 Uhr Sommerfest\,\n14 Uhr Ausstellungseröffnung\, Führungen durch die Ausstellung\,\nKunstwerkversteigerung.\nEintritt frei\, Treffpunkt\, f & w Haus Huckfeld\, Bahnhofstraße 24\,\n21218 Seevetal\, www.foerdernundwohnen.de
URL:https://kulturstiftung-seevetal.de/kulturkalender/kontraste-kunstausstellung-haus-huckfeld-seevetal/
LOCATION:Haus Huckfeld\, Bahnhofstraße 24\, Seevetal/ Hittfeld\, 21218
CATEGORIES:Ausstellung
END:VEVENT
END:VCALENDAR