BEGIN:VCALENDAR
VERSION:2.0
PRODID:-//Kulturstiftung-Seevetal - ECPv6.15.20//NONSGML v1.0//EN
CALSCALE:GREGORIAN
METHOD:PUBLISH
X-WR-CALNAME:Kulturstiftung-Seevetal
X-ORIGINAL-URL:https://kulturstiftung-seevetal.de
X-WR-CALDESC:Veranstaltungen für Kulturstiftung-Seevetal
REFRESH-INTERVAL;VALUE=DURATION:PT1H
X-Robots-Tag:noindex
X-PUBLISHED-TTL:PT1H
BEGIN:VTIMEZONE
TZID:Europe/Berlin
BEGIN:DAYLIGHT
TZOFFSETFROM:+0100
TZOFFSETTO:+0200
TZNAME:CEST
DTSTART:20200329T010000
END:DAYLIGHT
BEGIN:STANDARD
TZOFFSETFROM:+0200
TZOFFSETTO:+0100
TZNAME:CET
DTSTART:20201025T010000
END:STANDARD
BEGIN:DAYLIGHT
TZOFFSETFROM:+0100
TZOFFSETTO:+0200
TZNAME:CEST
DTSTART:20210328T010000
END:DAYLIGHT
BEGIN:STANDARD
TZOFFSETFROM:+0200
TZOFFSETTO:+0100
TZNAME:CET
DTSTART:20211031T010000
END:STANDARD
BEGIN:DAYLIGHT
TZOFFSETFROM:+0100
TZOFFSETTO:+0200
TZNAME:CEST
DTSTART:20220327T010000
END:DAYLIGHT
BEGIN:STANDARD
TZOFFSETFROM:+0200
TZOFFSETTO:+0100
TZNAME:CET
DTSTART:20221030T010000
END:STANDARD
END:VTIMEZONE
BEGIN:VEVENT
DTSTART;TZID=Europe/Berlin:20211024T180000
DTEND;TZID=Europe/Berlin:20211024T180000
DTSTAMP:20260422T014157
CREATED:20211019T165923Z
LAST-MODIFIED:20211019T170737Z
UID:10000679-1635098400-1635098400@kulturstiftung-seevetal.de
SUMMARY:"Nicht ganz so ernst"  99. Konzert der Kammermusikreihe
DESCRIPTION:Sonntag\, 24. Oktober 2021\, 18 Uhr (Einlass ab 17.15 Uhr)\nUnter dem Titel „Nicht ganz so ernst“ spielen\nStefan Czermak – Violine und Edda Blufarb – Klavier\nWerke von Wolfgang Amadeus Mozart\, Erich Wolfgang Korngold und Ludwig van Beethoven.\nDer Eintritt kostet 18 Euro und 15 Euro (Schüler und Studenten frei) \nZum Zweck der Einhaltung von Hygienevorschriften gilt die 2G-Regel und es ist eine vorherige Anmeldung vorteilhaft bei Rainer Castillon (0170 2090510 oder castillon@t-online.de)
URL:https://kulturstiftung-seevetal.de/kulturkalender/nicht-ganz-so-ernst/
LOCATION:Christuskirche Kammerkonzerte\, Westpreußenweg 17\, Seevetal\, 21217\, Deutschland
CATEGORIES:klassisches Konzert,Konzert
ATTACH;FMTTYPE=image/jpeg:https://kulturstiftung-seevetal.de/wp-content/uploads/2021/10/Blufarb-2-SW.jpg
ORGANIZER;CN="Christuskirche Fleestedt":MAILTO:castillon@t-online.de
END:VEVENT
END:VCALENDAR