BEGIN:VCALENDAR
VERSION:2.0
PRODID:-//Kulturstiftung-Seevetal - ECPv6.15.20//NONSGML v1.0//EN
CALSCALE:GREGORIAN
METHOD:PUBLISH
X-ORIGINAL-URL:https://kulturstiftung-seevetal.de
X-WR-CALDESC:Veranstaltungen für Kulturstiftung-Seevetal
REFRESH-INTERVAL;VALUE=DURATION:PT1H
X-Robots-Tag:noindex
X-PUBLISHED-TTL:PT1H
BEGIN:VTIMEZONE
TZID:Europe/Berlin
BEGIN:DAYLIGHT
TZOFFSETFROM:+0100
TZOFFSETTO:+0200
TZNAME:CEST
DTSTART:20200329T010000
END:DAYLIGHT
BEGIN:STANDARD
TZOFFSETFROM:+0200
TZOFFSETTO:+0100
TZNAME:CET
DTSTART:20201025T010000
END:STANDARD
BEGIN:DAYLIGHT
TZOFFSETFROM:+0100
TZOFFSETTO:+0200
TZNAME:CEST
DTSTART:20210328T010000
END:DAYLIGHT
BEGIN:STANDARD
TZOFFSETFROM:+0200
TZOFFSETTO:+0100
TZNAME:CET
DTSTART:20211031T010000
END:STANDARD
BEGIN:DAYLIGHT
TZOFFSETFROM:+0100
TZOFFSETTO:+0200
TZNAME:CEST
DTSTART:20220327T010000
END:DAYLIGHT
BEGIN:STANDARD
TZOFFSETFROM:+0200
TZOFFSETTO:+0100
TZNAME:CET
DTSTART:20221030T010000
END:STANDARD
END:VTIMEZONE
BEGIN:VEVENT
DTSTART;TZID=Europe/Berlin:20210904T190000
DTEND;TZID=Europe/Berlin:20210904T210000
DTSTAMP:20260422T063004
CREATED:20210625T175846Z
LAST-MODIFIED:20210725T163350Z
UID:10000676-1630782000-1630789200@kulturstiftung-seevetal.de
SUMMARY:Klaus Störtebeker und die Hanse – Eine Lesung über Piraterie\, Abenteuer und Pfeffersäcke
DESCRIPTION:Im Rahmen des Kultursommer 2021 des Landkreis Harburg\nSa.\, 4. September\, 19-21 Uhr |\nKulturstiftung Seevetal und Kreisvolkshochschule Harburg\nGabriele Dummschat entführt in die faszinierende Welt der Hanse.\nDiese Epoche war nicht nur eine Zeit des blühenden Handels\, sondern\ndurch Sturmfluten\, Hungersnöte und Pestschübe auch eine Zeit der Umbrüche.\nWährend die Hansekaufleute ihren Reichtum stetig zu mehren\nsuchten\, zeigten Tausende von Piraten ihnen auf See die klare Kante. \n \nEintritt 10 Euro \nAnmeldung erforderlich unter  www.kvhs-harburg.de \nAchtung\, wir bieten auch vier Freikarten über www.Kulturtafel-Harburg.de an
URL:https://kulturstiftung-seevetal.de/kulturkalender/klaus-stoertebeker-und-die-hanse-eine-lesung-ueber-piraterie-abenteuer-und-pfeffersaecke/
LOCATION:Dorfhaus Maschen\, Schulstraße 55-57\, Seevetal-Maschen\, 21220
ATTACH;FMTTYPE=image/jpeg:https://kulturstiftung-seevetal.de/wp-content/uploads/2021/06/Gabriele-Dummschat_2.jpg
ORGANIZER;CN="Kulturstiftung Seevetal":MAILTO:kontakt@kulturstiftung-seevetal.de
END:VEVENT
BEGIN:VEVENT
DTSTART;TZID=Europe/Berlin:20210917T180000
DTEND;TZID=Europe/Berlin:20210917T200000
DTSTAMP:20260422T063004
CREATED:20210625T174540Z
LAST-MODIFIED:20210625T174540Z
UID:10000675-1631901600-1631908800@kulturstiftung-seevetal.de
SUMMARY:Mein Dorf\, wie hast du dich verändert!
DESCRIPTION:Vortrag im Rahmen des Kultursommer 2021 des Landkreises Harburg \nDie Fertigstellung des Buchs „Mein Dorf\, wie hast du dich verändert!“\nbietet den Anlass\, einen noch ausführlicheren Bildervortrag mit zahlreichen\nunvergesslichen Fotos aus der Horster und Mascher Heide zu\nzeigen. Im zweiten Weltkrieg verloren viele Hamburger ihr Zuhause\nund zogen in die Mascher und Horster Heide.\nAnmeldung erforderlich unter Anmeldung@Kulturstiftung-Seevetal.de\,\nFleester Hoff\, Winsener Landstraße 52\, 21217 Seevetal-Fleestedt\,\nwww.Kulturstiftung-Seevetal.de \nEintritt frei – der Hut geht rum
URL:https://kulturstiftung-seevetal.de/kulturkalender/mein-dorf-wie-hast-du-dich-veraendert/
LOCATION:Fleester Hoff\, Winsener Landstraße 52\, Seevetal/ Fleestedt\, 21217
CATEGORIES:Heimat,Vortrag
ATTACH;FMTTYPE=image/jpeg:https://kulturstiftung-seevetal.de/wp-content/uploads/2020/12/Buchdeckel-1920.jpg
ORGANIZER;CN="Kulturstiftung Seevetal":MAILTO:kontakt@kulturstiftung-seevetal.de
END:VEVENT
BEGIN:VEVENT
DTSTART;TZID=Europe/Berlin:20210918T180000
DTEND;TZID=Europe/Berlin:20210918T210000
DTSTAMP:20260422T063004
CREATED:20210629T150927Z
LAST-MODIFIED:20210629T150927Z
UID:10000677-1631988000-1631998800@kulturstiftung-seevetal.de
SUMMARY:Sängerkollektiv in der Karoxbosteler Mühle
DESCRIPTION:Wenn Nora Sänger zum Sänger-Kollektiv ruft kommen immer viele interessante Musiker zu einem gemeinsamen Konzert zusammen. So auch wieder an diesem späten Nachmittag in der Karoxbosteler Mühle. \nEintritt frei – der Hut geht rum.
URL:https://kulturstiftung-seevetal.de/kulturkalender/saengerkollektiv-in-der-karoxbosteler-muehle/
LOCATION:Wassermühle Karoxbostel\, Karoxbosteler Chaussee 51\, Seevetal/ Karoxbostel\, Niedersachsen\, 21218\, Deutschland
CATEGORIES:Konzert,Pop,Rock,Soul
ATTACH;FMTTYPE=image/jpeg:https://kulturstiftung-seevetal.de/wp-content/uploads/2019/11/2019-11-02-Saenger_Kollektiv-Fleester_Hoff-0461.jpg
ORGANIZER;CN="Kulturstiftung Seevetal":MAILTO:kontakt@kulturstiftung-seevetal.de
END:VEVENT
BEGIN:VEVENT
DTSTART;TZID=Europe/Berlin:20210924T190000
DTEND;TZID=Europe/Berlin:20210924T210000
DTSTAMP:20260422T063004
CREATED:20210629T151944Z
LAST-MODIFIED:20210629T153432Z
UID:10000678-1632510000-1632517200@kulturstiftung-seevetal.de
SUMMARY:J. S. Bach und sein Nachleben in der Romantik
DESCRIPTION:J. S. Bach und sein Nachleben in der Romantik\nVortrag mit anschließendem Konzert\nin Kooperation mit der Kreisvolkshochschule\nJohann Sebastian Bach (1685-1750) \nNicht jeder Komponist verbindet mit sich den Anfang einer neuen Ära in der Musik – und Bach gehörte gerade zu den wenigen Auserwählten. Lebenslang als Kirchenmusiker tätig\, arbeitete der Künstler unermüdlich und beschenkte die Welt mit solchen Errungenschaften\, die die Weichenstellung der musikgeschichtlichen Entwicklung auf Jahrhunderte ermöglichten. Trotz der religiösen Ausrichtung seiner Musik\, die sich vor allem in seinen Passionen\, dem Weihnachtsoratorium und der Hohen Messe zeigt\, lässt sich ihr Einfluss bei jedem weiteren Komponisten nachverfolgen\, was auf eine der wichtigsten kompositorischen handwerklichen Elemente – die von ihm herausgearbeitete Technik des Kontrapunkts – zurückzuführen ist. Nach seinem Tod für eine Weile in Vergessenheit geraten\, wurde Bachs Musik durch den jungen Felix Mendelssohn wiederentdeckt und nimmt seitdem einen festen Platz im konzertanten und kirchlichen Leben ein. \nDie Kombination eines musikgeschichtlichen Vortrags mit einer lebendigen Klavierpräsentation lässt diesen Abend für Jung und Alt zu einem umfangreichen Musikerlebnis werden. Dr. Roman Salyutov (Konzertpianist\, Dirigent und Musikwissenschaftler) verspricht wieder einen spannenden und abwechslungsreichen Einstieg in die Welt dieses einzigartigen Komponisten. Es erklingen Werke von J. S. Bach\, F. Busoni\, F. Liszt und J. Brahms. \nAnmeldung erforderlich unter  www.kvhs-harburg.de \nAchtung\, wir bieten auch vier Freikarten über www.Kulturtafel-Harburg.de an
URL:https://kulturstiftung-seevetal.de/kulturkalender/j-s-bach-und-sein-nachleben-in-der-romantik/
LOCATION:Dorfhaus Maschen\, Schulstraße 55-57\, Seevetal-Maschen\, 21220
CATEGORIES:klassische Musik,klassisches Konzert,Konzert,Vortrag
ATTACH;FMTTYPE=image/jpeg:https://kulturstiftung-seevetal.de/wp-content/uploads/2020/09/Roman-Salyutov-scaled-e1646585474203.jpg
ORGANIZER;CN="Kulturstiftung Seevetal":MAILTO:kontakt@kulturstiftung-seevetal.de
END:VEVENT
END:VCALENDAR