BEGIN:VCALENDAR
VERSION:2.0
PRODID:-//Kulturstiftung-Seevetal - ECPv6.15.20//NONSGML v1.0//EN
CALSCALE:GREGORIAN
METHOD:PUBLISH
X-WR-CALNAME:Kulturstiftung-Seevetal
X-ORIGINAL-URL:https://kulturstiftung-seevetal.de
X-WR-CALDESC:Veranstaltungen für Kulturstiftung-Seevetal
REFRESH-INTERVAL;VALUE=DURATION:PT1H
X-Robots-Tag:noindex
X-PUBLISHED-TTL:PT1H
BEGIN:VTIMEZONE
TZID:Europe/Berlin
BEGIN:DAYLIGHT
TZOFFSETFROM:+0100
TZOFFSETTO:+0200
TZNAME:CEST
DTSTART:20190331T010000
END:DAYLIGHT
BEGIN:STANDARD
TZOFFSETFROM:+0200
TZOFFSETTO:+0100
TZNAME:CET
DTSTART:20191027T010000
END:STANDARD
BEGIN:DAYLIGHT
TZOFFSETFROM:+0100
TZOFFSETTO:+0200
TZNAME:CEST
DTSTART:20200329T010000
END:DAYLIGHT
BEGIN:STANDARD
TZOFFSETFROM:+0200
TZOFFSETTO:+0100
TZNAME:CET
DTSTART:20201025T010000
END:STANDARD
BEGIN:DAYLIGHT
TZOFFSETFROM:+0100
TZOFFSETTO:+0200
TZNAME:CEST
DTSTART:20210328T010000
END:DAYLIGHT
BEGIN:STANDARD
TZOFFSETFROM:+0200
TZOFFSETTO:+0100
TZNAME:CET
DTSTART:20211031T010000
END:STANDARD
END:VTIMEZONE
BEGIN:VEVENT
DTSTART;TZID=Europe/Berlin:20200315T100000
DTEND;TZID=Europe/Berlin:20200315T170000
DTSTAMP:20260423T183455
CREATED:20200201T160149Z
LAST-MODIFIED:20200201T160149Z
UID:10000574-1584266400-1584291600@kulturstiftung-seevetal.de
SUMMARY:Einführung in die digitale Fotografie
DESCRIPTION:Ich benutze immer den Automatik-Modus – wie geht das\, wenn ich auf [M] oder [S] stelle und – was bedeutet das?? \nDieser Kurs führt in einer kleinen Gruppe von 4 Teilnehmer*innen in die digitale Fotografie ein. \nLeider sind bereits alle Plätze vergeben.
URL:https://kulturstiftung-seevetal.de/kulturkalender/einfuehrung-in-die-digitale-fotografie/
ATTACH;FMTTYPE=image/jpeg:https://kulturstiftung-seevetal.de/wp-content/uploads/2018/06/2017-12-26-Physalis-BW-011-III.jpg
ORGANIZER;CN="Kulturstiftung Seevetal":MAILTO:kontakt@kulturstiftung-seevetal.de
END:VEVENT
BEGIN:VEVENT
DTSTART;TZID=Europe/Berlin:20200322T190000
DTEND;TZID=Europe/Berlin:20200322T190000
DTSTAMP:20260423T183455
CREATED:20200201T154057Z
LAST-MODIFIED:20200316T082246Z
UID:10000674-1584903600-1584903600@kulturstiftung-seevetal.de
SUMMARY:97. Kammerkonzert - abgesagt
DESCRIPTION:Aus gegebenem Anlass muss das Konzert leider abgesagt werden.\n  \n„Durch Nacht zum Licht“ \nDas Salzburger Klaviertrio accio pianotrio spielt Werke von L. v. Beethoven\, C. Schumann und F. Mendelssohn Bartholdy
URL:https://kulturstiftung-seevetal.de/kulturkalender/97-kammerkonzert/
LOCATION:Christuskirche Kammerkonzerte\, Westpreußenweg 17\, Seevetal\, 21217\, Deutschland
CATEGORIES:klassisches Konzert,Konzert
ATTACH;FMTTYPE=image/jpeg:https://kulturstiftung-seevetal.de/wp-content/uploads/2020/02/logo_christuskirche_fleestedt.jpg
ORGANIZER;CN="Christuskirche Fleestedt":MAILTO:castillon@t-online.de
END:VEVENT
END:VCALENDAR