BEGIN:VCALENDAR
VERSION:2.0
PRODID:-//Kulturstiftung-Seevetal - ECPv6.15.20//NONSGML v1.0//EN
CALSCALE:GREGORIAN
METHOD:PUBLISH
X-ORIGINAL-URL:https://kulturstiftung-seevetal.de
X-WR-CALDESC:Veranstaltungen für Kulturstiftung-Seevetal
REFRESH-INTERVAL;VALUE=DURATION:PT1H
X-Robots-Tag:noindex
X-PUBLISHED-TTL:PT1H
BEGIN:VTIMEZONE
TZID:Europe/Berlin
BEGIN:DAYLIGHT
TZOFFSETFROM:+0100
TZOFFSETTO:+0200
TZNAME:CEST
DTSTART:20180325T010000
END:DAYLIGHT
BEGIN:STANDARD
TZOFFSETFROM:+0200
TZOFFSETTO:+0100
TZNAME:CET
DTSTART:20181028T010000
END:STANDARD
BEGIN:DAYLIGHT
TZOFFSETFROM:+0100
TZOFFSETTO:+0200
TZNAME:CEST
DTSTART:20190331T010000
END:DAYLIGHT
BEGIN:STANDARD
TZOFFSETFROM:+0200
TZOFFSETTO:+0100
TZNAME:CET
DTSTART:20191027T010000
END:STANDARD
BEGIN:DAYLIGHT
TZOFFSETFROM:+0100
TZOFFSETTO:+0200
TZNAME:CEST
DTSTART:20200329T010000
END:DAYLIGHT
BEGIN:STANDARD
TZOFFSETFROM:+0200
TZOFFSETTO:+0100
TZNAME:CET
DTSTART:20201025T010000
END:STANDARD
END:VTIMEZONE
BEGIN:VEVENT
DTSTART;TZID=Europe/Berlin:20190901T140000
DTEND;TZID=Europe/Berlin:20190901T180000
DTSTAMP:20260424T021445
CREATED:20190408T204218Z
LAST-MODIFIED:20190408T204218Z
UID:10000634-1567346400-1567360800@kulturstiftung-seevetal.de
SUMMARY:Kinetischer Skulpturenpark| Ausstellung| Gernot Huber-Stiftung Ramelsloh.
DESCRIPTION:Kinetischer Skulpturenpark| Ausstellung| Gernot Huber-Stiftung Ramelsloh.
URL:https://kulturstiftung-seevetal.de/kulturkalender/kinetischer-skulpturenpark-ausstellung-gernot-huber-stiftung-ramelsloh-4/
LOCATION:Gernot Huber Stiftung\, Ulenbarg 5\, Seevetal-Ramelsloh\, 21220
CATEGORIES:Ausstellung,Skulpturen
ATTACH;FMTTYPE=image/jpeg:https://kulturstiftung-seevetal.de/wp-content/uploads/2019/04/gernot-huber-stiftung.jpg
ORGANIZER;CN="Gernot Huber Stiftung":MAILTO:gernothuber@web.de
END:VEVENT
BEGIN:VEVENT
DTSTART;TZID=Europe/Berlin:20190907T200000
DTEND;TZID=Europe/Berlin:20190907T220000
DTSTAMP:20260424T021445
CREATED:20190711T191251Z
LAST-MODIFIED:20190711T191251Z
UID:10000563-1567886400-1567893600@kulturstiftung-seevetal.de
SUMMARY:Hair
DESCRIPTION:The American Tribal Love/Rock Musical \n\nDas Zeitalter des „Aquarius“ bricht nun auch (wieder) in Seevetal an. Ursprünglich 1968 in New York uraufgeführt\, brachte spätestens der 1979 erschienene Film den Welterfolg für Melodien und Gedanken wie „Let the sunshine in“\, Good morning Starshine“ oder „I got life“. THE MUSICAL COMPANY entstaubt den alten Klassiker und präsentiert das englischsprachige Original in modernem Gewand mit der Botschaft von damals: Harmony and Understanding!
URL:https://kulturstiftung-seevetal.de/kulturkalender/hair/
LOCATION:Burg Seevetal\, Am Göhlenbach 11\, Seevetal\, 21218\, Deutschland
CATEGORIES:Konzert,Musical
ATTACH;FMTTYPE=image/png:https://kulturstiftung-seevetal.de/wp-content/uploads/2019/07/Hair-Bg-lang.png
ORGANIZER;CN="The Musical Company":MAILTO:mail@themusicalcompany.de
END:VEVENT
BEGIN:VEVENT
DTSTART;TZID=Europe/Berlin:20190908T110000
DTEND;TZID=Europe/Berlin:20190908T180000
DTSTAMP:20260424T021445
CREATED:20190318T185155Z
LAST-MODIFIED:20190318T185155Z
UID:10000615-1567940400-1567965600@kulturstiftung-seevetal.de
SUMMARY:Tag des offenen Denkmals
DESCRIPTION:
URL:https://kulturstiftung-seevetal.de/kulturkalender/tag-des-offenen-denkmals/
LOCATION:Wassermühle Karoxbostel\, Karoxbosteler Chaussee 51\, Seevetal/ Karoxbostel\, Niedersachsen\, 21218\, Deutschland
CATEGORIES:Markt,Museumsführung
ATTACH;FMTTYPE=image/jpeg:https://kulturstiftung-seevetal.de/wp-content/uploads/2019/03/Meine-Muehle.jpg
ORGANIZER;CN="Wasserm%C3%BChle Karoxbostel":MAILTO:post@wassermuehle-karoxbostel.de
END:VEVENT
BEGIN:VEVENT
DTSTART;TZID=Europe/Berlin:20190908T150000
DTEND;TZID=Europe/Berlin:20190908T170000
DTSTAMP:20260424T021445
CREATED:20190711T191507Z
LAST-MODIFIED:20190711T191731Z
UID:10000564-1567954800-1567962000@kulturstiftung-seevetal.de
SUMMARY:Hair
DESCRIPTION:The American Tribal Love/Rock Musical \n\nDas Zeitalter des „Aquarius“ bricht nun auch (wieder) in Seevetal an. Ursprünglich 1968 in New York uraufgeführt\, brachte spätestens der 1979 erschienene Film den Welterfolg für Melodien und Gedanken wie „Let the sunshine in“\, Good morning Starshine“ oder „I got life“. THE MUSICAL COMPANY entstaubt den alten Klassiker und präsentiert das englischsprachige Original in modernem Gewand mit der Botschaft von damals: Harmony and Understanding!
URL:https://kulturstiftung-seevetal.de/kulturkalender/hair-2/
LOCATION:Burg Seevetal\, Am Göhlenbach 11\, Seevetal\, 21218\, Deutschland
CATEGORIES:Konzert,Musical
ATTACH;FMTTYPE=image/png:https://kulturstiftung-seevetal.de/wp-content/uploads/2019/07/Hair-Bg-lang.png
ORGANIZER;CN="The Musical Company":MAILTO:mail@themusicalcompany.de
END:VEVENT
BEGIN:VEVENT
DTSTART;TZID=Europe/Berlin:20190909T180000
DTEND;TZID=Europe/Berlin:20190909T180000
DTSTAMP:20260424T021445
CREATED:20190828T201453Z
LAST-MODIFIED:20190828T201453Z
UID:10000569-1568052000-1568052000@kulturstiftung-seevetal.de
SUMMARY:Vernissage im Rathaus
DESCRIPTION:Neue Kunstausstellung im Seevetaler Rathaus – „7 Blickwinkel“\n\n7 Blickwinkel“ – unter diesem Titel fasst die Künstlerin Beata Duve ihre Werke in ihrer neuesten Ausstellung zusammen. Die Kunstausstellung von „Becol“\, so ihr Künstlername\, kann ab Montag\, 9. September 2019\, im Seevetaler Rathaus in Hittfeld besucht werden. \n\n\n\n\n\n \nDen Auftakt bildet an diesem Abend eine Vernissage\, zu der Seevetals stellvertretender Bürgermeister Norbert Fraederich und „Becol“ alle kunstinteressierten Bürgerinnen und Bürger um 18 Uhr herzlich einladen. \nDie Ausstellung dauert bis zum 29. November 2019 und zeigt rund 30 Werke aus dem noch jungen Schaffen der Seevetaler Künstlerin Beata Duve. Die Malerei in Acryl auf Leinwand folgt keinen Regeln oder unterliegt irgendwelchen Techniken – die Künstlerin versinkt in jedem Bild so sehr\, dass sich jegliche Grenzen für sie auflösen. Neben den klassischen Pinseln kann es also sein\, dass sie auch mit Messer und Gabel oder dem Gartenschlauch Farben aufträgt. Die expressionistischen kunterbunten Motive gleichen dann auch häufig der reinsten Farbexplosion und transportieren überschäumende Lebensfreude. \n \nMit der Ausstellung im Seevetaler Rathaus möchte die Künstlerin aus Maschen den Menschen aus der Region diese Fröhlichkeit gern nahe bringen. Einige ihrer großformatigen Bilder werden in den kommenden Monaten auch in der Burg Seevetal zu sehen sein. „Becol“ ist auch Mitglied im Kunstkreis 2012 in Lüneburg. \nKunstausstellungen im Seevetaler Rathaus haben inzwischen Tradition:  Bereits seit über 15 Jahren haben zahlreiche Künstler in Ausstellungen ihre Werke gezeigt und die Gemeindeverwaltung damit als Forum für ihr kreatives Schaffen genutzt. \nWeitere Informationen erhalten Interessierte bei Svenja Riebau unter s.riebau@seevetal.de\, bzw. Tel: 04105- 55 2288.
URL:https://kulturstiftung-seevetal.de/kulturkalender/vernissage-im-rathaus/
LOCATION:Rathaus Seevetal (Hittfeld)\, Kirchstraße 11\, Seevetal\, 21218
CATEGORIES:Ausstellung
ATTACH;FMTTYPE=image/jpeg:https://kulturstiftung-seevetal.de/wp-content/uploads/2019/08/2019-09-09-Seevetal-Rathaus-Vernissage.jpg
ORGANIZER;CN="Gemeinde Seevetal":MAILTO:presse@seevetal.de
END:VEVENT
BEGIN:VEVENT
DTSTART;TZID=Europe/Berlin:20190914T150000
DTEND;TZID=Europe/Berlin:20190914T170000
DTSTAMP:20260424T021445
CREATED:20190711T191613Z
LAST-MODIFIED:20190711T191613Z
UID:10000565-1568473200-1568480400@kulturstiftung-seevetal.de
SUMMARY:Hair
DESCRIPTION:The American Tribal Love/Rock Musical \n\nDas Zeitalter des „Aquarius“ bricht nun auch (wieder) in Seevetal an. Ursprünglich 1968 in New York uraufgeführt\, brachte spätestens der 1979 erschienene Film den Welterfolg für Melodien und Gedanken wie „Let the sunshine in“\, Good morning Starshine“ oder „I got life“. THE MUSICAL COMPANY entstaubt den alten Klassiker und präsentiert das englischsprachige Original in modernem Gewand mit der Botschaft von damals: Harmony and Understanding!
URL:https://kulturstiftung-seevetal.de/kulturkalender/hair-3/
LOCATION:Burg Seevetal\, Am Göhlenbach 11\, Seevetal\, 21218\, Deutschland
CATEGORIES:Konzert,Musical
ATTACH;FMTTYPE=image/png:https://kulturstiftung-seevetal.de/wp-content/uploads/2019/07/Hair-Bg-lang.png
ORGANIZER;CN="The Musical Company":MAILTO:mail@themusicalcompany.de
END:VEVENT
BEGIN:VEVENT
DTSTART;TZID=Europe/Berlin:20190914T200000
DTEND;TZID=Europe/Berlin:20190914T220000
DTSTAMP:20260424T021445
CREATED:20190711T191840Z
LAST-MODIFIED:20190711T191840Z
UID:10000566-1568491200-1568498400@kulturstiftung-seevetal.de
SUMMARY:Hair
DESCRIPTION:The American Tribal Love/Rock Musical \n\nDas Zeitalter des „Aquarius“ bricht nun auch (wieder) in Seevetal an. Ursprünglich 1968 in New York uraufgeführt\, brachte spätestens der 1979 erschienene Film den Welterfolg für Melodien und Gedanken wie „Let the sunshine in“\, Good morning Starshine“ oder „I got life“. THE MUSICAL COMPANY entstaubt den alten Klassiker und präsentiert das englischsprachige Original in modernem Gewand mit der Botschaft von damals: Harmony and Understanding!
URL:https://kulturstiftung-seevetal.de/kulturkalender/hair-4/
LOCATION:Burg Seevetal\, Am Göhlenbach 11\, Seevetal\, 21218\, Deutschland
CATEGORIES:Konzert,Musical
ATTACH;FMTTYPE=image/png:https://kulturstiftung-seevetal.de/wp-content/uploads/2019/07/Hair-Bg-lang.png
ORGANIZER;CN="The Musical Company":MAILTO:mail@themusicalcompany.de
END:VEVENT
BEGIN:VEVENT
DTSTART;TZID=Europe/Berlin:20190915T150000
DTEND;TZID=Europe/Berlin:20190915T170000
DTSTAMP:20260424T021445
CREATED:20190711T191951Z
LAST-MODIFIED:20190716T172055Z
UID:10000567-1568559600-1568566800@kulturstiftung-seevetal.de
SUMMARY:Hair
DESCRIPTION:The American Tribal Love/Rock Musical \n\nDas Zeitalter des „Aquarius“ bricht nun auch (wieder) in Seevetal an. Ursprünglich 1968 in New York uraufgeführt\, brachte spätestens der 1979 erschienene Film den Welterfolg für Melodien und Gedanken wie „Let the sunshine in“\, Good morning Starshine“ oder „I got life“. THE MUSICAL COMPANY entstaubt den alten Klassiker und präsentiert das englischsprachige Original in modernem Gewand mit der Botschaft von damals: Harmony and Understanding!
URL:https://kulturstiftung-seevetal.de/kulturkalender/hair-5/
LOCATION:Burg Seevetal\, Am Göhlenbach 11\, Seevetal\, 21218\, Deutschland
CATEGORIES:Konzert,Musical
ATTACH;FMTTYPE=image/png:https://kulturstiftung-seevetal.de/wp-content/uploads/2019/07/Hair-Bg-lang.png
ORGANIZER;CN="The Musical Company":MAILTO:mail@themusicalcompany.de
END:VEVENT
BEGIN:VEVENT
DTSTART;TZID=Europe/Berlin:20190921T193000
DTEND;TZID=Europe/Berlin:20190921T193000
DTSTAMP:20260424T021445
CREATED:20190514T184746Z
LAST-MODIFIED:20190521T190408Z
UID:10000651-1569094200-1569094200@kulturstiftung-seevetal.de
SUMMARY:Sluderkram in't Treppenhuuus - Theatergruppe des MTV Ramelsloh
DESCRIPTION:Sluderkram in’t Treppenhuuus \nWonehm dat Stück vun hannelt ?? dat weit ick nich…
URL:https://kulturstiftung-seevetal.de/kulturkalender/een-froo-foer-den-klabautermann-theatergruppe-des-mtv-ramelsloh/
LOCATION:Landeskirchliche Gemeinschaft (LKG) Ohlendorf\, Missionsweg 11\, Seevetal-Ohlendorf\, 21220
CATEGORIES:Plattdeutsch,Theater
ATTACH;FMTTYPE=image/jpeg:https://kulturstiftung-seevetal.de/wp-content/uploads/2019/05/MTV-Theater.jpg
ORGANIZER;CN="Theatergruppe des MTV Ramelsloh":MAILTO:theater@mtv-ramelsloh.de
END:VEVENT
BEGIN:VEVENT
DTSTART;TZID=Europe/Berlin:20190922T153000
DTEND;TZID=Europe/Berlin:20190922T153000
DTSTAMP:20260424T021445
CREATED:20190514T185317Z
LAST-MODIFIED:20190521T190741Z
UID:10000653-1569166200-1569166200@kulturstiftung-seevetal.de
SUMMARY:Sluderkram in't Treppenhuuus - Theatergruppe des MTV Ramelsloh
DESCRIPTION:Sluderkram in’t Treppenhuuus \nWonehm dat Stück vun hannelt ?? dat weit ick nich…
URL:https://kulturstiftung-seevetal.de/kulturkalender/een-froo-foer-den-klabautermann-theatergruppe-des-mtv-ramelsloh-2/
LOCATION:Landeskirchliche Gemeinschaft (LKG) Ohlendorf\, Missionsweg 11\, Seevetal-Ohlendorf\, 21220
CATEGORIES:Plattdeutsch,Theater
ATTACH;FMTTYPE=image/jpeg:https://kulturstiftung-seevetal.de/wp-content/uploads/2019/05/MTV-Theater.jpg
ORGANIZER;CN="Theatergruppe des MTV Ramelsloh":MAILTO:theater@mtv-ramelsloh.de
END:VEVENT
BEGIN:VEVENT
DTSTART;TZID=Europe/Berlin:20190922T180000
DTEND;TZID=Europe/Berlin:20190922T180000
DTSTAMP:20260424T021445
CREATED:20190920T074048Z
LAST-MODIFIED:20190920T074048Z
UID:10000570-1569175200-1569175200@kulturstiftung-seevetal.de
SUMMARY:Folk Songs in der Christuskirche (Kammerkonzert)
DESCRIPTION:94. KAMMERKONZERT\nSonntag\, 22. September 2019\, 18 Uhr\nChristuskirche Fleestedt\n„FOLK SONGS“\nLudwig van Beethoven – Bearbeitung europäischer Volkslieder für Sopran und Klaviertrio\nJohannes Brahms – Klavierquartett g-moll op. 25 \nI. Aldrian – Mezzosopran\nS. Rose – Violine\nB. Rühl – Viola\nTh. Tyllack – Violoncello\nE. Hasenfratz – Klavier \nEintritt: 18 und15 Euro (Schüler und Studenten frei)
URL:https://kulturstiftung-seevetal.de/kulturkalender/folk-songs-in-der-christuskirche-kammerkonzert/
LOCATION:Christuskirche Kammerkonzerte\, Westpreußenweg 17\, Seevetal\, 21217\, Deutschland
CATEGORIES:Folk Songs,Konzert
ATTACH;FMTTYPE=image/jpeg:https://kulturstiftung-seevetal.de/wp-content/uploads/2019/09/Plakat-19-09-22-e.jpg
ORGANIZER;CN="Christuskirche Fleestedt":MAILTO:castillon@t-online.de
END:VEVENT
BEGIN:VEVENT
DTSTART;TZID=Europe/Berlin:20190927T200000
DTEND;TZID=Europe/Berlin:20190927T200000
DTSTAMP:20260424T021445
CREATED:20190514T185435Z
LAST-MODIFIED:20190521T190709Z
UID:10000655-1569614400-1569614400@kulturstiftung-seevetal.de
SUMMARY:Sluderkram in't Treppenhuuus - Theatergruppe des MTV Ramelsloh
DESCRIPTION:Sluderkram in’t Treppenhuuus \nWonehm dat Stück vun hannelt ?? dat weit ick nich…
URL:https://kulturstiftung-seevetal.de/kulturkalender/een-froo-foer-den-klabautermann-theatergruppe-des-mtv-ramelsloh-3/
LOCATION:Landeskirchliche Gemeinschaft (LKG) Ohlendorf\, Missionsweg 11\, Seevetal-Ohlendorf\, 21220
CATEGORIES:Plattdeutsch,Theater
ATTACH;FMTTYPE=image/jpeg:https://kulturstiftung-seevetal.de/wp-content/uploads/2019/05/MTV-Theater.jpg
ORGANIZER;CN="Theatergruppe des MTV Ramelsloh":MAILTO:theater@mtv-ramelsloh.de
END:VEVENT
BEGIN:VEVENT
DTSTART;TZID=Europe/Berlin:20190928T100000
DTEND;TZID=Europe/Berlin:20190929T160000
DTSTAMP:20260424T021445
CREATED:20190318T185308Z
LAST-MODIFIED:20190318T185308Z
UID:10000616-1569664800-1569772800@kulturstiftung-seevetal.de
SUMMARY:Tage der Industriekultur am Wasser
DESCRIPTION:
URL:https://kulturstiftung-seevetal.de/kulturkalender/tage-der-industriekultur-am-wasser/
LOCATION:Wassermühle Karoxbostel\, Karoxbosteler Chaussee 51\, Seevetal/ Karoxbostel\, Niedersachsen\, 21218\, Deutschland
CATEGORIES:Markt,Museumsführung
ATTACH;FMTTYPE=image/jpeg:https://kulturstiftung-seevetal.de/wp-content/uploads/2019/03/Meine-Muehle.jpg
ORGANIZER;CN="Wasserm%C3%BChle Karoxbostel":MAILTO:post@wassermuehle-karoxbostel.de
END:VEVENT
BEGIN:VEVENT
DTSTART;TZID=Europe/Berlin:20190928T193000
DTEND;TZID=Europe/Berlin:20190928T193000
DTSTAMP:20260424T021445
CREATED:20190514T185535Z
LAST-MODIFIED:20190521T190643Z
UID:10000656-1569699000-1569699000@kulturstiftung-seevetal.de
SUMMARY:Sluderkram in't Treppenhuuus - Theatergruppe des MTV Ramelsloh
DESCRIPTION:Sluderkram in’t Treppenhuuus \nWonehm dat Stück vun hannelt ?? dat weit ick nich…
URL:https://kulturstiftung-seevetal.de/kulturkalender/een-froo-foer-den-klabautermann-theatergruppe-des-mtv-ramelsloh-4/
LOCATION:Landeskirchliche Gemeinschaft (LKG) Ohlendorf\, Missionsweg 11\, Seevetal-Ohlendorf\, 21220
CATEGORIES:Plattdeutsch,Theater
ATTACH;FMTTYPE=image/jpeg:https://kulturstiftung-seevetal.de/wp-content/uploads/2019/05/MTV-Theater.jpg
ORGANIZER;CN="Theatergruppe des MTV Ramelsloh":MAILTO:theater@mtv-ramelsloh.de
END:VEVENT
BEGIN:VEVENT
DTSTART;TZID=Europe/Berlin:20190929T153000
DTEND;TZID=Europe/Berlin:20190929T153000
DTSTAMP:20260424T021445
CREATED:20190514T185633Z
LAST-MODIFIED:20190521T190616Z
UID:10000657-1569771000-1569771000@kulturstiftung-seevetal.de
SUMMARY:Sluderkram in't Treppenhuuus - Theatergruppe des MTV Ramelsloh
DESCRIPTION:Sluderkram in’t Treppenhuuus \nWonehm dat Stück vun hannelt ?? dat weit ick nich…
URL:https://kulturstiftung-seevetal.de/kulturkalender/een-froo-foer-den-klabautermann-theatergruppe-des-mtv-ramelsloh-5/
LOCATION:Landeskirchliche Gemeinschaft (LKG) Ohlendorf\, Missionsweg 11\, Seevetal-Ohlendorf\, 21220
CATEGORIES:Plattdeutsch,Theater
ATTACH;FMTTYPE=image/jpeg:https://kulturstiftung-seevetal.de/wp-content/uploads/2019/05/MTV-Theater.jpg
ORGANIZER;CN="Theatergruppe des MTV Ramelsloh":MAILTO:theater@mtv-ramelsloh.de
END:VEVENT
BEGIN:VEVENT
DTSTART;TZID=Europe/Berlin:20190929T180000
DTEND;TZID=Europe/Berlin:20190929T180000
DTSTAMP:20260424T021445
CREATED:20190409T100733Z
LAST-MODIFIED:20190409T100733Z
UID:10000636-1569780000-1569780000@kulturstiftung-seevetal.de
SUMMARY:Licht der Musik im Schatten des Lebens| Chorkonzert| Burg Seevetal
DESCRIPTION:Sonntag\, 29. September\, 18 Uhr\, Sing & Swing Fleestedt und Pop Secret Winsen\nLicht der Musik im Schatten des Lebens\nGemeinsames Konzert des gemischten Chores Sing & Swing Fleestedt\, des gemischten\nChores Pop Secret Winsen und des Pop & Soul-Trios Ebb & Flow aus Los Angeles. Auf einer\nReise durch die Stationen des Lebens werden die Licht- und Schattenseiten des Momentes\ngemeinsam erlebt.\n22 Euro\, Burg Seevetal\,
URL:https://kulturstiftung-seevetal.de/kulturkalender/licht-der-musik-im-schatten-des-lebens-chorkonzert-burg-seevetal/
LOCATION:Burg Seevetal\, Am Göhlenbach 11\, Seevetal\, 21218\, Deutschland
CATEGORIES:Chor,Konzert
ATTACH;FMTTYPE=image/jpeg:https://kulturstiftung-seevetal.de/wp-content/uploads/2019/04/SingUndSwing-Alle-03-004.jpg
ORGANIZER;CN="Sing und Swing":MAILTO:wolframschult@gmx.de
END:VEVENT
END:VCALENDAR