BEGIN:VCALENDAR
VERSION:2.0
PRODID:-//Kulturstiftung-Seevetal - ECPv6.15.20//NONSGML v1.0//EN
CALSCALE:GREGORIAN
METHOD:PUBLISH
X-WR-CALNAME:Kulturstiftung-Seevetal
X-ORIGINAL-URL:https://kulturstiftung-seevetal.de
X-WR-CALDESC:Veranstaltungen für Kulturstiftung-Seevetal
REFRESH-INTERVAL;VALUE=DURATION:PT1H
X-Robots-Tag:noindex
X-PUBLISHED-TTL:PT1H
BEGIN:VTIMEZONE
TZID:Europe/Berlin
BEGIN:DAYLIGHT
TZOFFSETFROM:+0100
TZOFFSETTO:+0200
TZNAME:CEST
DTSTART:20180325T010000
END:DAYLIGHT
BEGIN:STANDARD
TZOFFSETFROM:+0200
TZOFFSETTO:+0100
TZNAME:CET
DTSTART:20181028T010000
END:STANDARD
BEGIN:DAYLIGHT
TZOFFSETFROM:+0100
TZOFFSETTO:+0200
TZNAME:CEST
DTSTART:20190331T010000
END:DAYLIGHT
BEGIN:STANDARD
TZOFFSETFROM:+0200
TZOFFSETTO:+0100
TZNAME:CET
DTSTART:20191027T010000
END:STANDARD
BEGIN:DAYLIGHT
TZOFFSETFROM:+0100
TZOFFSETTO:+0200
TZNAME:CEST
DTSTART:20200329T010000
END:DAYLIGHT
BEGIN:STANDARD
TZOFFSETFROM:+0200
TZOFFSETTO:+0100
TZNAME:CET
DTSTART:20201025T010000
END:STANDARD
END:VTIMEZONE
BEGIN:VEVENT
DTSTART;TZID=Europe/Berlin:20190817T170000
DTEND;TZID=Europe/Berlin:20190817T170000
DTSTAMP:20260424T033625
CREATED:20190621T100645Z
LAST-MODIFIED:20190806T130734Z
UID:10000561-1566061200-1566061200@kulturstiftung-seevetal.de
SUMMARY:Sommerkonzert der Musici Emeriti in der Wassermühle Karoxbostel
DESCRIPTION:Sommerliches Benefizkonzert für die Kulturstiftung Seevetal in der Wassermühle Karoxbostel\nmusici emeriti hamburg\nDirigent: Klaus-Peter Modest\nSolist: Johannes Benz (Trompete) \nLudwig van Beethoven: Coriolan-Ouvertüre\nNiels-Wilhelm Gade: „Sommertag auf dem Lande“\nAnton Weber: Abu-Hassan-Ouvertüre\nJohann Nepomuk Hummel: Trompetenkonzert Es-Dur\nFranz Schubert: 3. Sinfonie\n \nEintritt: 12 Euro\nKartenreservierungen über: Reservierung@Kulturstiftung-Seevetal.de\n\nKartenverkauf nur an der ‚Nachmittagskasse‘
URL:https://kulturstiftung-seevetal.de/kulturkalender/sommerkonzert-der-musici-emeriti-in-der-wassermuehle-karoxbostel/
LOCATION:Wassermühle Karoxbostel\, Karoxbosteler Chaussee 51\, Seevetal/ Karoxbostel\, Niedersachsen\, 21218\, Deutschland
CATEGORIES:klassisches Konzert,Konzert
ATTACH;FMTTYPE=image/jpeg:https://kulturstiftung-seevetal.de/wp-content/uploads/2019/06/157a50829ae.jpg
ORGANIZER;CN="Musici Emeriti Hamburg":MAILTO:castillon@t-online.de
END:VEVENT
BEGIN:VEVENT
DTSTART;TZID=Europe/Berlin:20190804T140000
DTEND;TZID=Europe/Berlin:20190804T180000
DTSTAMP:20260424T033625
CREATED:20190408T204103Z
LAST-MODIFIED:20190408T204103Z
UID:10000633-1564927200-1564941600@kulturstiftung-seevetal.de
SUMMARY:Kinetischer Skulpturenpark| Ausstellung| Gernot Huber-Stiftung Ramelsloh.
DESCRIPTION:Kinetischer Skulpturenpark| Ausstellung| Gernot Huber-Stiftung Ramelsloh.
URL:https://kulturstiftung-seevetal.de/kulturkalender/kinetischer-skulpturenpark-ausstellung-gernot-huber-stiftung-ramelsloh-3/
LOCATION:Gernot Huber Stiftung\, Ulenbarg 5\, Seevetal-Ramelsloh\, 21220
CATEGORIES:Ausstellung,Skulpturen
ATTACH;FMTTYPE=image/jpeg:https://kulturstiftung-seevetal.de/wp-content/uploads/2019/04/gernot-huber-stiftung.jpg
ORGANIZER;CN="Gernot Huber Stiftung":MAILTO:gernothuber@web.de
END:VEVENT
BEGIN:VEVENT
DTSTART;TZID=Europe/Berlin:20190808T193000
DTEND;TZID=Europe/Berlin:20190808T193000
DTSTAMP:20260424T033625
CREATED:20190716T173836Z
LAST-MODIFIED:20190716T173836Z
UID:10000568-1565292600-1565292600@kulturstiftung-seevetal.de
SUMMARY:Vocalensemble Millenium
DESCRIPTION:Benefizkonzert für die St. Ansgar-Stiftung Konzert mit Vocalensemble Millenium in der Stiftskirche Ramelsloh\n\nNach neun intensiven Jahren beim Dresdner Kreuzchor starten die diesjährigen Abiturienten erstmals als „Vocalensemble Millenium“ eine vierwöchige Sommertournee quer durch Deutschland. Diese Tournee soll ein weiterer Höhepunkt ihrer gemeinsamen Zeit beim mehr als 800 Jahre alten Kreuzchor sein. \nWährend ihrer Kruzianer-Zeit gaben sie zahlreiche Gastspiele u. a. in Japan\, Skandinavien\, China und Russland. Dafür erhielten sie eine hervorragende Gesangsausbildung\, welche weltweit bekannte Sänger\, wie Peter Schreier und Rene Pape hervorbrachte. \nDas 90-minütige Konzert mit 15 Minuten Pause umfasst sowohl geistliche als auch weltliche Musik\, bei der sich die zehn – alle im Milleniumsjahr 2000 geborenen – Sänger auf eine klangliche Zeitreise vom Mittelalter bis heute begeben. So werden neben gregorianischen Gesängen auch romantische Werke Rheinbergers und geistliche Musik des 20. Jahrhunderts\, mit u.a. dem ehemaligen Kreuzkantor Rudolf Mauersberger\, zu hören sein. Zum Repertoire gehören zudem moderne Spirituals sowie Welthits der Comedian Harmonists\, der Beatles sowie der WiseGuys. Besonders freuen darf man sich auf die von den Millenials selbstarrangierten Popsongs ihres Jahrtausends. Das Konzert verspricht wieder ein unvergessliches musikalisches Erlebnis zu werden. \nBenefizkonzert für die St. Ansgar-Stiftung Konzert mit Vocalensemble Millenium in der Stiftskirche Ramelsloh Donnerstag\, den 08. August 2019 um 19.30 Uhr \nKarten im Vorverkauf: 12\,- € und an der Abendkasse: 15\,- € \nVorverkaufsstellen: \nRamelsloh: Pfarrbüro und Knolles Markt\nOhlendorf: Post (Tee-Insel)\nMaschen: Stoffträume\, Horster Landstr. 116\nStelle: ABC-Buchhandlung\, Harburger Str. 1\nOnline unter: http://tickets.kirche-ramelsloh.de
URL:https://kulturstiftung-seevetal.de/kulturkalender/vocalensemble-millenium/
LOCATION:Stiftskirche Ramelsloh\, Domplatz 8\, Seevetal/ Ramelsloh\, 21220
CATEGORIES:Chor,Konzert
ATTACH;FMTTYPE=image/jpeg:https://kulturstiftung-seevetal.de/wp-content/uploads/2019/07/millenium_banner-15db1f5ea9144abc00d2be74e7884d5c-56.jpg
END:VEVENT
BEGIN:VEVENT
DTSTART;TZID=Europe/Berlin:20190812T200000
DTEND;TZID=Europe/Berlin:20190812T230000
DTSTAMP:20260424T033625
CREATED:20190412T150434Z
LAST-MODIFIED:20190716T172700Z
UID:10000645-1565640000-1565650800@kulturstiftung-seevetal.de
SUMMARY:Musik im "Uns Dörphus" - Monday Music
DESCRIPTION:Zweimal im Monat findet die Musik-Session mit dem Schwerpunkt auf Country und Rock statt.\n\nEs treffen sich diverse Profi- und Hobbymusiker und ein mit den Jahren gewachsenes Publikum\, um einen schönen Abend mit viel Musik\, Spaß\, Freundschaft und Kreativität zu erleben. \nPerfektion steht hier nicht im Vordergrund. Nicht zuletzt sorgt aber natürlich die Professionalität der Musiker für ein hochklassiges Erlebnis und den seit 21 Jahren andauernden Erfolg der Veranstaltung. \nEintritt 2 Euro
URL:https://kulturstiftung-seevetal.de/kulturkalender/musik-im-uns-doerphus-monday-music-3/
LOCATION:Doerphus Hoersten\, Hörstener Schulstraße 4\, Seevetal/ Hörsten\, Niedersachsen\, 21217\, Deutschland
CATEGORIES:Country,Konzert,Rock
ATTACH;FMTTYPE=image/jpeg:https://kulturstiftung-seevetal.de/wp-content/uploads/2019/04/image.jpg
END:VEVENT
BEGIN:VEVENT
DTSTART;TZID=Europe/Berlin:20190823T190000
DTEND;TZID=Europe/Berlin:20190823T190000
DTSTAMP:20260424T033625
CREATED:20190318T185041Z
LAST-MODIFIED:20190318T185041Z
UID:10000614-1566586800-1566586800@kulturstiftung-seevetal.de
SUMMARY:Vergnüglicher Wilhelm Busch Abend mit Gabriele Schwedewsky
DESCRIPTION:
URL:https://kulturstiftung-seevetal.de/kulturkalender/vergnueglicher-wilhelm-busch-abend-mit-gabriele-schwedewsky/
LOCATION:Wassermühle Karoxbostel\, Karoxbosteler Chaussee 51\, Seevetal/ Karoxbostel\, Niedersachsen\, 21218\, Deutschland
CATEGORIES:Lesung
ATTACH;FMTTYPE=image/jpeg:https://kulturstiftung-seevetal.de/wp-content/uploads/2019/03/Meine-Muehle.jpg
ORGANIZER;CN="Wasserm%C3%BChle Karoxbostel":MAILTO:post@wassermuehle-karoxbostel.de
END:VEVENT
BEGIN:VEVENT
DTSTART;TZID=Europe/Berlin:20190826T200000
DTEND;TZID=Europe/Berlin:20190826T230000
DTSTAMP:20260424T033625
CREATED:20190412T150311Z
LAST-MODIFIED:20190716T172737Z
UID:10000642-1566849600-1566860400@kulturstiftung-seevetal.de
SUMMARY:Musik im "Uns Dörphus" - Monday Music
DESCRIPTION:Zweimal im Monat findet die Musik-Session mit dem Schwerpunkt auf Country und Rock statt.\n\nEs treffen sich diverse Profi- und Hobbymusiker und ein mit den Jahren gewachsenes Publikum\, um einen schönen Abend mit viel Musik\, Spaß\, Freundschaft und Kreativität zu erleben. \nPerfektion steht hier nicht im Vordergrund. Nicht zuletzt sorgt aber natürlich die Professionalität der Musiker für ein hochklassiges Erlebnis und den seit 21 Jahren andauernden Erfolg der Veranstaltung. \nEintritt 2 Euro
URL:https://kulturstiftung-seevetal.de/kulturkalender/musik-im-uns-doerphus-monday-music-2/
LOCATION:Doerphus Hoersten\, Hörstener Schulstraße 4\, Seevetal/ Hörsten\, Niedersachsen\, 21217\, Deutschland
CATEGORIES:Country,Konzert,Rock
ATTACH;FMTTYPE=image/jpeg:https://kulturstiftung-seevetal.de/wp-content/uploads/2019/04/image.jpg
END:VEVENT
BEGIN:VEVENT
DTSTART;TZID=Europe/Berlin:20190831T170000
DTEND;TZID=Europe/Berlin:20190831T233000
DTSTAMP:20260424T033625
CREATED:20190711T184722Z
LAST-MODIFIED:20190711T185145Z
UID:10000562-1567270800-1567294200@kulturstiftung-seevetal.de
SUMMARY:Heide Rock
DESCRIPTION:Open Air in Ramelsloh – bereits zu 5. Mal Irish/Scottish Rock/Punk gemischt mit traditioneller Folkmusik\, in diesem Jahr mit fünf Bands!\nEinlass ab 16.00 Uhr\, Beginn 17.00 Uhr \nDie diesjährigen Bands: \nAndrew Gordon\, Rapalje\, MacPiet\, Naé Borrá\, The Cardinal Sins \nEs ist ein Festival für die ganze Familie. Auch in diesem Jahr bieten die Kinder-HeideRockGames mit Ritterschlag Spannung pur für Kinder und Eltern. Die Kleinsten können sich auf der großen Hüpfburg vergnügen. Im hinteren Bereich des Geländes gibt es eine große Klön-Lounge. \nFür das leibliche Wohl ist mit Steinofen-Pizza\, Crêpes\, Wurst und Pommes sowie Fischbrötchen und Eis gesorgt. Außerdem gibt es wieder reichlich Guinness und Kilkenny\, Whisky und natürlich den sensationellen 1-Euro-Shooter Higlander uvm. – Slàinte Mhath! \nTickets gibt es direkt beim Veranstalter im Vorverkauf für 25 Euro (Abendkasse 30 Euro). \nTicketanfragen über info@heiderock.de \n  \n\n\nDie Veranstaltung ist barrierefrei und familienfreundlich. Kinder bis 15 Jahre haben freien Eintritt in Begleitung eines Erziehungsberechtigten. \n(see/ul) \n\n\nRubrik\nMusik/Konzerte/Kabarett \nVeranstaltungsort\nRamelsloher Allee – Ecke Kleberland\nVeranstalter\nPEGRO PETRI Handelsgesellschaft mbH\nHarmstorfer Straße 5 (Rampenlager\, Büro Eingang links)\n21220 Seevetal\nKontaktdaten\nTelefon: +49  4185 792615\nE-Mail: info@heiderock.de\nHomepage: www.heiderock.de
URL:https://kulturstiftung-seevetal.de/kulturkalender/heide-rock/
CATEGORIES:Konzert,Rock
ATTACH;FMTTYPE=image/jpeg:https://kulturstiftung-seevetal.de/wp-content/uploads/2019/07/plakat_heiderock_2019-910010029-20200-10.jpg
ORGANIZER;CN="PEGRO PETRI Handelsgesellschaft mbH":MAILTO:info@heiderock.de
END:VEVENT
END:VCALENDAR