BEGIN:VCALENDAR
VERSION:2.0
PRODID:-//Kulturstiftung-Seevetal - ECPv6.15.20//NONSGML v1.0//EN
CALSCALE:GREGORIAN
METHOD:PUBLISH
X-WR-CALNAME:Kulturstiftung-Seevetal
X-ORIGINAL-URL:https://kulturstiftung-seevetal.de
X-WR-CALDESC:Veranstaltungen für Kulturstiftung-Seevetal
REFRESH-INTERVAL;VALUE=DURATION:PT1H
X-Robots-Tag:noindex
X-PUBLISHED-TTL:PT1H
BEGIN:VTIMEZONE
TZID:Europe/Berlin
BEGIN:DAYLIGHT
TZOFFSETFROM:+0100
TZOFFSETTO:+0200
TZNAME:CEST
DTSTART:20250330T010000
END:DAYLIGHT
BEGIN:STANDARD
TZOFFSETFROM:+0200
TZOFFSETTO:+0100
TZNAME:CET
DTSTART:20251026T010000
END:STANDARD
BEGIN:DAYLIGHT
TZOFFSETFROM:+0100
TZOFFSETTO:+0200
TZNAME:CEST
DTSTART:20260329T010000
END:DAYLIGHT
BEGIN:STANDARD
TZOFFSETFROM:+0200
TZOFFSETTO:+0100
TZNAME:CET
DTSTART:20261025T010000
END:STANDARD
BEGIN:DAYLIGHT
TZOFFSETFROM:+0100
TZOFFSETTO:+0200
TZNAME:CEST
DTSTART:20270328T010000
END:DAYLIGHT
BEGIN:STANDARD
TZOFFSETFROM:+0200
TZOFFSETTO:+0100
TZNAME:CET
DTSTART:20271031T010000
END:STANDARD
END:VTIMEZONE
BEGIN:VEVENT
DTSTART;TZID=Europe/Berlin:20260424T183000
DTEND;TZID=Europe/Berlin:20260424T210000
DTSTAMP:20260424T015100
CREATED:20260412T151445Z
LAST-MODIFIED:20260413T173138Z
UID:10001937-1777055400-1777064400@kulturstiftung-seevetal.de
SUMMARY:Lesung & Konzert ECHO96 mit Buchholzer Singer-Songwriterin Nora Sänger
DESCRIPTION:Nora Sänger ist Musikfans im Landkreis Harburg seit Jahren ein Begriff: im Winsener Marstall\, auf dem Buchholzer Stadtfest\, in der Burg Seevetal oder dem Alten Geidenhof Hanstedt — überall begeistert die sympathische Musikerin mit Faible für Blues\, Country und Soul ihre Zuhörer.\nNun geht die Buchholzerin mit ihrer zweiten Leidenschaft\, dem Schreiben\, an den Start: Am 16. April erscheint ihr Debütroman „ECHO96“ (WortVibe Verlag). In dieser Geschichte geht es um eine junge Frau\, die anlässlich der Reunion ihrer einstigen Lieblingsboygroup in die Auseinandersetzung mit ihrer Vergangenheit getriggert wird. Der Clou: Nora hat die Songs der fiktiven Boygroup ECHO96 gleich mitgeschrieben! Dank eines Crowdfundings\, welches Nora von August bis November 2025 durchgeführt hat\, konnte sie genug Budget zusammensammeln\, um die Songs zum Roman im Tonstudio zu produzieren. Die erste Single zum Buch\, „Fingerprints“\, erscheint zeitlich mit dem Buch auf allen gängigen Streamingdiensten. \nNora Sänger gelingt es\, durch die authentische Musik zum Buch (Popmusik der 90er und 00er-Jahre) ihre Geschichte auf zwei Ebenen zu erzählen. Besonders stolz ist sie drauf\, dass sie Dank eines Crowdfundings eine herkömmliche Studioproduktion finanzieren konnte; denn eine Boygroup aus KI-Stimmen herzustellen\, das wäre für Nora nicht in die Tüte gekommen. Und so haben renommierte Hamburger Studiosänger auf die von Pianist und Producer Stefan Rebelski arrangierten Instrumentals gesungen.\nAm 24. April kommt Nora Sänger für eine Lesung & Konzert ins Dorfhaus Maschen. Die Veranstaltung beginnt um 18:30 Uhr. \nWeitere Infos: www.norasaenger.de
URL:https://kulturstiftung-seevetal.de/kulturkalender/lesung-konzert-echo96-mit-buchholzer-singer-songwriterin-nora-saenger/
LOCATION:Dorfhaus Maschen\, Schulstraße 55-57\, Seevetal-Maschen\, 21220
CATEGORIES:eigene Veranstaltungen,Konzert,moderiertes Konzert,Z-eigene Veranstaltungen
ATTACH;FMTTYPE=image/png:https://kulturstiftung-seevetal.de/wp-content/uploads/2026/04/Kopie-von-ECHO96-Lesung-klein-scaled-e1775986624991.png
ORGANIZER;CN="Kulturstiftung Seevetal":MAILTO:kontakt@kulturstiftung-seevetal.de
END:VEVENT
BEGIN:VEVENT
DTSTART;TZID=Europe/Berlin:20260424T200000
DTEND;TZID=Europe/Berlin:20260424T220000
DTSTAMP:20260424T015100
CREATED:20260214T020121Z
LAST-MODIFIED:20260214T020121Z
UID:10001879-1777060800-1777068000@kulturstiftung-seevetal.de
SUMMARY:MUNDSTUHL
DESCRIPTION:MUNDSTUHL präsentieren mit “Wir kommen!” ihr brandneues und unfassbar lustiges Programm mit einhundertprozentiger Lachtränengarantie! \nDass Mundstuhl nach fast 30 Jahren immer noch zur Speerspitze der deutschen Live-Komiker gehören\, hat einen einfachen Grund: Sie sind schlichtweg sauwitzig. Und im neuen Programm “Wir kommen!” packen die beiden Kultkomiker tatsächlich noch eine Schippe drauf und erreichen eine schier unglaubliche Pointendichte. Frisch\, schnell und topaktuell. \nLars Niedereichholz und Ande Werner gelten als wandelbarstes und erfolgreichstes Comedyduo Deutschlands und haben nagelneue Geschichten ihrer legendären Bühnenfiguren im Gepäck. \nDie ostdeutschen Bürgergeld-Ikonen Peggy und Sandy\, der cholerische Andi\, die Erfinder der Kanakcomedy Dragan und Alder\, die drucklosen Umweltaktivisten Torben und Malte von No Pressure\, der verrückte Grillschorsch\, die schlechtesten Zauberer der Welt Sickroy und Fried und viele weitere zum Brüllen komische Charaktere geben sich die Klinke in die Hand. “Wir kommen!” ist Mundstuhl pur! \nSatirische Spitzen\, die pure Lust am Blödsinn und ansteckende Spielfreude sind die Geheimzutaten des neuen Programms und natürlich nehmen die seit Jahren offen heterosexuell lebenden Ausnahmekomiker auch in Zeiten stets erhobener Zeigefinger kein Blatt vor den Mund. Sie sind der Fels in der Brandung humoristischer Horizonterweiterung. Triggerwarnung: Der Humor von Mundstuhl kann von manchen Menschen als zu lustig empfunden werden. \n\nOrt: Ort: EMPORE Buchholz \nQuelle: (C) https://empore-buchholz.de/veranstaltung/mundstuhl/
URL:https://kulturstiftung-seevetal.de/kulturkalender/mundstuhl/
CATEGORIES:Empore Buchholz
ATTACH;FMTTYPE=image/webp:https://kulturstiftung-seevetal.de/wp-content/uploads/2026/02/empore-745f2f04a59ac7f0ef432565186507d3-1000w-3.webp
END:VEVENT
END:VCALENDAR