BEGIN:VCALENDAR
VERSION:2.0
PRODID:-//Kulturstiftung-Seevetal - ECPv6.15.20//NONSGML v1.0//EN
CALSCALE:GREGORIAN
METHOD:PUBLISH
X-WR-CALNAME:Kulturstiftung-Seevetal
X-ORIGINAL-URL:https://kulturstiftung-seevetal.de
X-WR-CALDESC:Veranstaltungen für Kulturstiftung-Seevetal
REFRESH-INTERVAL;VALUE=DURATION:PT1H
X-Robots-Tag:noindex
X-PUBLISHED-TTL:PT1H
BEGIN:VTIMEZONE
TZID:Europe/Berlin
BEGIN:DAYLIGHT
TZOFFSETFROM:+0100
TZOFFSETTO:+0200
TZNAME:CEST
DTSTART:20250330T010000
END:DAYLIGHT
BEGIN:STANDARD
TZOFFSETFROM:+0200
TZOFFSETTO:+0100
TZNAME:CET
DTSTART:20251026T010000
END:STANDARD
BEGIN:DAYLIGHT
TZOFFSETFROM:+0100
TZOFFSETTO:+0200
TZNAME:CEST
DTSTART:20260329T010000
END:DAYLIGHT
BEGIN:STANDARD
TZOFFSETFROM:+0200
TZOFFSETTO:+0100
TZNAME:CET
DTSTART:20261025T010000
END:STANDARD
BEGIN:DAYLIGHT
TZOFFSETFROM:+0100
TZOFFSETTO:+0200
TZNAME:CEST
DTSTART:20270328T010000
END:DAYLIGHT
BEGIN:STANDARD
TZOFFSETFROM:+0200
TZOFFSETTO:+0100
TZNAME:CET
DTSTART:20271031T010000
END:STANDARD
END:VTIMEZONE
BEGIN:VEVENT
DTSTART;TZID=Europe/Berlin:20260423T200000
DTEND;TZID=Europe/Berlin:20260423T220000
DTSTAMP:20260423T013915
CREATED:20260214T020120Z
LAST-MODIFIED:20260214T020120Z
UID:10001878-1776974400-1776981600@kulturstiftung-seevetal.de
SUMMARY:FROM ZERO – LINKIN PARK TRIBUTE
DESCRIPTION:Die erste Linkin Park Tribute Band mit Frontfrau europaweit  – neu\, einzigartig und voller Energie! \nDie Tribute-Band FROM ZERO hebt das musikalische Erbe von Linkin Park auf ein neues Level. Mit einer außergewöhnlichen Frontfrau an der Spitze bringt die Band die ikonischen Songs in eine frische\, moderne Darbietung. \nDamit folgt From Zero dem aktuellen Kurs von Linkin Park selbst und schafft gleichzeitig etwas Einzigartiges auf dem Markt. Eine Linkin Park Tribute-Band mit weiblicher Frontstimme\, die so bisher nicht existiert. \nLinkin Park hat sich erst kürzlich musikalisch zurückgemeldet und weltweit erneut Begeisterung ausgelöst. From Zero greift diesen Spirit auf und bietet Fans eine authentische Live-Erfahrung\, die Vergangenheit und Gegenwart miteinander verbindet. \nDie Band bleibt dem Originalsound treu und fügt mit ihrer charismatischen Frontfrau eine neue\, kraftvolle Dynamik hinzu\, die Gänsehaut garantiert. \nWährend es weltweit zahlreiche Tribute-Bands gibt\, bietet From Zero eine erfrischend andere Perspektive: Die Kombination aus weiblicher Frontstimme\, modernen Interpretationen und der Treue zu den Wurzeln von Linkin Park hebt die Band deutlich hervor. \nOb Klassiker wie „In the End“ und „Numb“ oder energiegeladene Tracks wie „Faint“ und „One Step Closer“ From Zero bringt die Magie von Linkin Park zurück auf die Bühne\, und das mit einer nie dagewesenen Note. \nErleben Sie Form Zero live! \n                                     \n  \n\nOrt: Ort: EMPORE Buchholz \nQuelle: (C) https://empore-buchholz.de/veranstaltung/from-zero-linkinpark-tribute/
URL:https://kulturstiftung-seevetal.de/kulturkalender/from-zero-linkin-park-tribute/
CATEGORIES:Empore Buchholz
ATTACH;FMTTYPE=image/webp:https://kulturstiftung-seevetal.de/wp-content/uploads/2026/02/empore-4c5f247b8f4c835db4d0335e633986a2-1000w-3.webp
END:VEVENT
END:VCALENDAR