BEGIN:VCALENDAR
VERSION:2.0
PRODID:-//Kulturstiftung-Seevetal - ECPv6.15.20//NONSGML v1.0//EN
CALSCALE:GREGORIAN
METHOD:PUBLISH
X-WR-CALNAME:Kulturstiftung-Seevetal
X-ORIGINAL-URL:https://kulturstiftung-seevetal.de
X-WR-CALDESC:Veranstaltungen für Kulturstiftung-Seevetal
REFRESH-INTERVAL;VALUE=DURATION:PT1H
X-Robots-Tag:noindex
X-PUBLISHED-TTL:PT1H
BEGIN:VTIMEZONE
TZID:Europe/Berlin
BEGIN:DAYLIGHT
TZOFFSETFROM:+0100
TZOFFSETTO:+0200
TZNAME:CEST
DTSTART:20250330T010000
END:DAYLIGHT
BEGIN:STANDARD
TZOFFSETFROM:+0200
TZOFFSETTO:+0100
TZNAME:CET
DTSTART:20251026T010000
END:STANDARD
BEGIN:DAYLIGHT
TZOFFSETFROM:+0100
TZOFFSETTO:+0200
TZNAME:CEST
DTSTART:20260329T010000
END:DAYLIGHT
BEGIN:STANDARD
TZOFFSETFROM:+0200
TZOFFSETTO:+0100
TZNAME:CET
DTSTART:20261025T010000
END:STANDARD
BEGIN:DAYLIGHT
TZOFFSETFROM:+0100
TZOFFSETTO:+0200
TZNAME:CEST
DTSTART:20270328T010000
END:DAYLIGHT
BEGIN:STANDARD
TZOFFSETFROM:+0200
TZOFFSETTO:+0100
TZNAME:CET
DTSTART:20271031T010000
END:STANDARD
END:VTIMEZONE
BEGIN:VEVENT
DTSTART;TZID=Europe/Berlin:20260422T200000
DTEND;TZID=Europe/Berlin:20260422T220000
DTSTAMP:20260422T015544
CREATED:20260214T020119Z
LAST-MODIFIED:20260214T020119Z
UID:10001877-1776888000-1776895200@kulturstiftung-seevetal.de
SUMMARY:ANDREAS ENGLISCH
DESCRIPTION:Deutschlands bekanntester Vatikan-Experte kommt nach Buchholz. Seit fast vierzig Jahren begleitet Andreas Englisch die Päpste\, schrieb 19 Bücher über Rom und den Vatikan\, darunter zahlreiche Bestseller. In einer einstündigen Show führt er mit zahlreichen Geschichten die Zuschauer hinter die Mauern des Vatikans. Papst Leo XIV. ist sein vierter Papst. Englisch erzählt von Papst Johannes Paul II. und dessen Ringen gegen die Sowjetdiktatur und von Benedikt XVI. und seinem spektakulären Rücktritt. Er berichtet über seine Erlebnisse mit dem ungewöhnlichen Kämpfer Papst Franziskus und natürlich schildert er den Weg von Leo XIV. an die Spitze der Macht. \nNach der Pause wechselt der Ton – und die Perspektive. Andreas Englisch bringt gemeinsam mit der Journalistin und Autorin Heike Kleen den Podcast „Vatikangeflüster“ live auf die Bühne. Hier wird der Vatikan nicht nur erklärt\, sondern auch entzaubert: mit Humor\, Neugier und einem Blick für das Absurde. Es geht um skurrile Rituale\, rätselhafte Männerbünde\, kleine und große Wunder\, erstaunliche Zufälle und himmlische Zeichen. Und um die Frage\, warum die katholische Kirche noch immer so viel Macht besitzt und Frauen bis heute von Weiheämtern ausschließt. Ein Abend\, an dem man staunt\, lacht und sich fragt: Wie viele Wunder\, Papstwitze und geheimnisvolle Männerbünde passen eigentlich in den kleinsten Staat der Welt? Spoiler: mehr\, als man denkt. \n\nOrt: Ort: EMPORE Buchholz \nQuelle: (C) https://empore-buchholz.de/veranstaltung/andreas-englisch/
URL:https://kulturstiftung-seevetal.de/kulturkalender/andreas-englisch/
CATEGORIES:Empore Buchholz
ATTACH;FMTTYPE=image/webp:https://kulturstiftung-seevetal.de/wp-content/uploads/2026/02/empore-6c280cb3c6ebaaa7a1283e4c43b1423c-orig-3.webp
END:VEVENT
END:VCALENDAR