BEGIN:VCALENDAR
VERSION:2.0
PRODID:-//Kulturstiftung-Seevetal - ECPv6.15.20//NONSGML v1.0//EN
CALSCALE:GREGORIAN
METHOD:PUBLISH
X-WR-CALNAME:Kulturstiftung-Seevetal
X-ORIGINAL-URL:https://kulturstiftung-seevetal.de
X-WR-CALDESC:Veranstaltungen für Kulturstiftung-Seevetal
REFRESH-INTERVAL;VALUE=DURATION:PT1H
X-Robots-Tag:noindex
X-PUBLISHED-TTL:PT1H
BEGIN:VTIMEZONE
TZID:Europe/Berlin
BEGIN:DAYLIGHT
TZOFFSETFROM:+0100
TZOFFSETTO:+0200
TZNAME:CEST
DTSTART:20250330T010000
END:DAYLIGHT
BEGIN:STANDARD
TZOFFSETFROM:+0200
TZOFFSETTO:+0100
TZNAME:CET
DTSTART:20251026T010000
END:STANDARD
BEGIN:DAYLIGHT
TZOFFSETFROM:+0100
TZOFFSETTO:+0200
TZNAME:CEST
DTSTART:20260329T010000
END:DAYLIGHT
BEGIN:STANDARD
TZOFFSETFROM:+0200
TZOFFSETTO:+0100
TZNAME:CET
DTSTART:20261025T010000
END:STANDARD
BEGIN:DAYLIGHT
TZOFFSETFROM:+0100
TZOFFSETTO:+0200
TZNAME:CEST
DTSTART:20270328T010000
END:DAYLIGHT
BEGIN:STANDARD
TZOFFSETFROM:+0200
TZOFFSETTO:+0100
TZNAME:CET
DTSTART:20271031T010000
END:STANDARD
END:VTIMEZONE
BEGIN:VEVENT
DTSTART;TZID=Europe/Berlin:20260421T200000
DTEND;TZID=Europe/Berlin:20260421T220000
DTSTAMP:20260422T001102
CREATED:20260214T020118Z
LAST-MODIFIED:20260214T020118Z
UID:10001876-1776801600-1776808800@kulturstiftung-seevetal.de
SUMMARY:FALCO – DIE SHOW
DESCRIPTION:Nach „Falco–Das Musical“ kommt Hauptdarsteller Alexander Kerbst in Zusammenarbeit mit Marcel Weisheit wieder auf die Bühne und präsentiert „Falco – Die Show“ Live auf der EMPORE Bühne. \nIn einer authentischen Konzert-Show mit Band\, Sängerinnen und Tänzerinnen präsentiert Alexander Kerbst nicht nur alle Hits wie „Der Kommissar“\, „Rock me Amadeus“\, „Jeanny“ u.v.m.\, sondern erweckt durch Erzählungen und Anekdoten den „Falken“ für eine Nacht wieder zum Leben. \nMit Sonnenbrille und zurückgegelten Haaren wirkt Falco auf der Bühne wie auferstanden. Alexander Kerbst\, einer der bekanntesten Darsteller des österreichischen Musikers\, liefert eine große Show. „Höher\, schneller\, weiter\, hoch wie nie“. (Hannoversche Allgemeine Zeitung) \nVerschobener Termin vom 09.01.2026. Karten\, die für den ursprünglichen Termin gekauft wurden\, behalten ihre Gültigkeit. \n\nOrt: Ort: EMPORE Buchholz \nQuelle: (C) https://empore-buchholz.de/veranstaltung/falco-die-show/
URL:https://kulturstiftung-seevetal.de/kulturkalender/falco-die-show-2/
CATEGORIES:Empore Buchholz
ATTACH;FMTTYPE=image/webp:https://kulturstiftung-seevetal.de/wp-content/uploads/2026/02/empore-3a4a1ae590fff0844968c20a647666b0-1000w-3.webp
END:VEVENT
END:VCALENDAR